BEGIN:VCALENDAR
VERSION:2.0
PRODID:-//The Magic of Christmas - ECPv6.15.12.2//NONSGML v1.0//EN
CALSCALE:GREGORIAN
METHOD:PUBLISH
X-ORIGINAL-URL:https://www.themagicofchristmas.org
X-WR-CALDESC:Events for The Magic of Christmas
REFRESH-INTERVAL;VALUE=DURATION:PT1H
X-Robots-Tag:noindex
X-PUBLISHED-TTL:PT1H
BEGIN:VTIMEZONE
TZID:America/Denver
BEGIN:DAYLIGHT
TZOFFSETFROM:-0700
TZOFFSETTO:-0600
TZNAME:MDT
DTSTART:20240310T090000
END:DAYLIGHT
BEGIN:STANDARD
TZOFFSETFROM:-0600
TZOFFSETTO:-0700
TZNAME:MST
DTSTART:20241103T080000
END:STANDARD
BEGIN:DAYLIGHT
TZOFFSETFROM:-0700
TZOFFSETTO:-0600
TZNAME:MDT
DTSTART:20250309T090000
END:DAYLIGHT
BEGIN:STANDARD
TZOFFSETFROM:-0600
TZOFFSETTO:-0700
TZNAME:MST
DTSTART:20251102T080000
END:STANDARD
BEGIN:DAYLIGHT
TZOFFSETFROM:-0700
TZOFFSETTO:-0600
TZNAME:MDT
DTSTART:20260308T090000
END:DAYLIGHT
BEGIN:STANDARD
TZOFFSETFROM:-0600
TZOFFSETTO:-0700
TZNAME:MST
DTSTART:20261101T080000
END:STANDARD
END:VTIMEZONE
BEGIN:VEVENT
DTSTART;TZID=America/Denver:20250623T183000
DTEND;TZID=America/Denver:20250623T203000
DTSTAMP:20260424T033753
CREATED:20250526T023737Z
LAST-MODIFIED:20250606T155752Z
UID:4502-1750703400-1750710600@www.themagicofchristmas.org
SUMMARY:2025 AGM
DESCRIPTION:The Magic of Christmas Annual General Meeting for 2025\nJoin us for our review of Christmas 2024 and election of the executive team.    We’re holding our Annual General Meeting at the Magic of Christmas Warehouse again this year. \nAgenda\n6pm-7pm\n\n\n\nPizza and mingle\nShare feedback\n\n\n\n7pm-8pm\n\n\n\nDetails about how we did during 2024\nFinancial Update\nElection of the Executive (The current executive are standing for re-election as incumbents)\n\nPresident – Scott Perley (incumbent)\nVice President – Jeff Mackenzie (incumbent)\nTreasurer – Mardie D’Andrea (incumbent)\nSecretary – Position Open\nVolunteer Coordinator – Courtney Kane (incumbent)\n\n\nIf you wish to put your name forward for a position\, please submit the RSVP and indicate you’d like to run for an executive position.\n\n\n\nPlease RSVP to let us know if you’re able to join.  If you would like to put your name forward to run for any positions\, please let us know in the RSVP. \n﻿
URL:https://www.themagicofchristmas.org/event/2025-agm/
LOCATION:Magic of Christmas Warehouse\, Bay #32\, 4216 54 Ave SE\, Calgary\, Alberta\, T2C 2E3\, Canada
CATEGORIES:AGM
END:VEVENT
END:VCALENDAR