BEGIN:VCALENDAR
VERSION:2.0
PRODID:-//The Magic of Christmas - ECPv6.15.12.2//NONSGML v1.0//EN
CALSCALE:GREGORIAN
METHOD:PUBLISH
X-ORIGINAL-URL:https://www.themagicofchristmas.org
X-WR-CALDESC:Events for The Magic of Christmas
REFRESH-INTERVAL;VALUE=DURATION:PT1H
X-Robots-Tag:noindex
X-PUBLISHED-TTL:PT1H
BEGIN:VTIMEZONE
TZID:America/Denver
BEGIN:DAYLIGHT
TZOFFSETFROM:-0700
TZOFFSETTO:-0600
TZNAME:MDT
DTSTART:20200308T090000
END:DAYLIGHT
BEGIN:STANDARD
TZOFFSETFROM:-0600
TZOFFSETTO:-0700
TZNAME:MST
DTSTART:20201101T080000
END:STANDARD
BEGIN:DAYLIGHT
TZOFFSETFROM:-0700
TZOFFSETTO:-0600
TZNAME:MDT
DTSTART:20210314T090000
END:DAYLIGHT
BEGIN:STANDARD
TZOFFSETFROM:-0600
TZOFFSETTO:-0700
TZNAME:MST
DTSTART:20211107T080000
END:STANDARD
BEGIN:DAYLIGHT
TZOFFSETFROM:-0700
TZOFFSETTO:-0600
TZNAME:MDT
DTSTART:20220313T090000
END:DAYLIGHT
BEGIN:STANDARD
TZOFFSETFROM:-0600
TZOFFSETTO:-0700
TZNAME:MST
DTSTART:20221106T080000
END:STANDARD
BEGIN:DAYLIGHT
TZOFFSETFROM:-0700
TZOFFSETTO:-0600
TZNAME:MDT
DTSTART:20230312T090000
END:DAYLIGHT
BEGIN:STANDARD
TZOFFSETFROM:-0600
TZOFFSETTO:-0700
TZNAME:MST
DTSTART:20231105T080000
END:STANDARD
BEGIN:DAYLIGHT
TZOFFSETFROM:-0700
TZOFFSETTO:-0600
TZNAME:MDT
DTSTART:20240310T090000
END:DAYLIGHT
BEGIN:STANDARD
TZOFFSETFROM:-0600
TZOFFSETTO:-0700
TZNAME:MST
DTSTART:20241103T080000
END:STANDARD
BEGIN:DAYLIGHT
TZOFFSETFROM:-0700
TZOFFSETTO:-0600
TZNAME:MDT
DTSTART:20250309T090000
END:DAYLIGHT
BEGIN:STANDARD
TZOFFSETFROM:-0600
TZOFFSETTO:-0700
TZNAME:MST
DTSTART:20251102T080000
END:STANDARD
BEGIN:DAYLIGHT
TZOFFSETFROM:-0700
TZOFFSETTO:-0600
TZNAME:MDT
DTSTART:20260308T090000
END:DAYLIGHT
BEGIN:STANDARD
TZOFFSETFROM:-0600
TZOFFSETTO:-0700
TZNAME:MST
DTSTART:20261101T080000
END:STANDARD
END:VTIMEZONE
BEGIN:VEVENT
DTSTART;TZID=America/Denver:20250623T183000
DTEND;TZID=America/Denver:20250623T203000
DTSTAMP:20260423T163218
CREATED:20250526T023737Z
LAST-MODIFIED:20250606T155752Z
UID:4502-1750703400-1750710600@www.themagicofchristmas.org
SUMMARY:2025 AGM
DESCRIPTION:The Magic of Christmas Annual General Meeting for 2025\nJoin us for our review of Christmas 2024 and election of the executive team.    We’re holding our Annual General Meeting at the Magic of Christmas Warehouse again this year. \nAgenda\n6pm-7pm\n\n\n\nPizza and mingle\nShare feedback\n\n\n\n7pm-8pm\n\n\n\nDetails about how we did during 2024\nFinancial Update\nElection of the Executive (The current executive are standing for re-election as incumbents)\n\nPresident – Scott Perley (incumbent)\nVice President – Jeff Mackenzie (incumbent)\nTreasurer – Mardie D’Andrea (incumbent)\nSecretary – Position Open\nVolunteer Coordinator – Courtney Kane (incumbent)\n\n\nIf you wish to put your name forward for a position\, please submit the RSVP and indicate you’d like to run for an executive position.\n\n\n\nPlease RSVP to let us know if you’re able to join.  If you would like to put your name forward to run for any positions\, please let us know in the RSVP. \n﻿
URL:https://www.themagicofchristmas.org/event/2025-agm/
LOCATION:Magic of Christmas Warehouse\, Bay #32\, 4216 54 Ave SE\, Calgary\, Alberta\, T2C 2E3\, Canada
CATEGORIES:AGM
END:VEVENT
BEGIN:VEVENT
DTSTART;TZID=America/Denver:20240717T180000
DTEND;TZID=America/Denver:20240717T200000
DTSTAMP:20260423T163218
CREATED:20240621T034206Z
LAST-MODIFIED:20240621T041025Z
UID:4198-1721239200-1721246400@www.themagicofchristmas.org
SUMMARY:2024 AGM
DESCRIPTION:The Magic of Christmas Annual General Meeting for 2024\nJoin us for our review of Christmas 2023 and election of the executive team.  Voting for the Executive is open to all who volunteered during the 2023 Christmas season.  We’re holding our Annual General Meeting at the Magic of Christmas Warehouse this year. \nAgenda\n6pm-7pm\n\n\n\nPizza and mingle\nShare feedback\n\n\n\n7pm-8pm\n\n\n\nDetails about how we did during 2023\nFinancial Update\nElection of the Executive (The current executive are standing for re-election as incumbents)\n\nPresident – Scott Perley (incumbent)\nVice President – Jeff Mackenzie (incumbent)\nTreasurer – Mardie D’Andrea (incumbent)\nSecretary – Shani Sheppard (incumbent)\nVolunteer Coordinator – Courtney Kane (incumbent)\n\n\nIf you wish to put your name forward for a position\, please submit the RSVP and indicate you’d like to run for an executive position.\n\n\n\nPlease RSVP to let us know if you’re able to join.  If you would like to put your name forward to run for any positions\, please let us know in the RSVP. \n﻿
URL:https://www.themagicofchristmas.org/event/2024-agm/
LOCATION:Magic of Christmas Warehouse\, Bay #32\, 4216 54 Ave SE\, Calgary\, Alberta\, T2C 2E3\, Canada
CATEGORIES:AGM
END:VEVENT
BEGIN:VEVENT
DTSTART;TZID=America/Denver:20230621T183000
DTEND;TZID=America/Denver:20230621T193000
DTSTAMP:20260423T163218
CREATED:20230612T053123Z
LAST-MODIFIED:20230621T193130Z
UID:3740-1687372200-1687375800@www.themagicofchristmas.org
SUMMARY:2023 AGM & Election
DESCRIPTION:Magic of Christmas Annual General Meeting for 2023 \nJoin us for our review of Christmas 2022 and election of the executive team.  Voting for the Executive is open to all who volunteered during the 2022 Christmas season. \nHere are the names of those standing for election: \n\nPresident – Scott Perley (incumbent)\nVice President – Jeff Mackenzie\nTreasurer – Mardie D’Andrea (incumbent)\nSecretary – Shani Sheppard (incumbent)\nVolunteer Coordinator – Courtney Kane (incumbent)\, Rhonda Clarke\, Jae Cripps\n\nPlease RSVP to let us know if you’re able to join.  If you would like to put your name forward to run for any positions\, please let us know in the RSVP. \n﻿﻿﻿
URL:https://www.themagicofchristmas.org/event/2023-agm/
LOCATION:Online
CATEGORIES:AGM
END:VEVENT
BEGIN:VEVENT
DTSTART;TZID=America/Denver:20220625T100000
DTEND;TZID=America/Denver:20220625T110000
DTSTAMP:20260423T163218
CREATED:20220607T200752Z
LAST-MODIFIED:20220607T200752Z
UID:3424-1656151200-1656154800@www.themagicofchristmas.org
SUMMARY:2022 AGM and Election
DESCRIPTION:For 2022\, we’re again hosting our AGM and election of our executive team online. \nPlease let us know if you’re able to join us or if you’d like to run for one of the elected positions. \nPlease RSVP below
URL:https://www.themagicofchristmas.org/event/2022-agm-and-election/
LOCATION:Alberta
CATEGORIES:AGM
ORGANIZER;CN="Scott Perley":MAILTO:president@themagicofchristmas.org
END:VEVENT
BEGIN:VEVENT
DTSTART;TZID=America/Denver:20210307T130000
DTEND;TZID=America/Denver:20210307T140000
DTSTAMP:20260423T163218
CREATED:20210215T223117Z
LAST-MODIFIED:20210215T223704Z
UID:3045-1615122000-1615125600@www.themagicofchristmas.org
SUMMARY:2021 Annual General Meeting & Election
DESCRIPTION:Once again we’re hosting our AGM and election of our executive team online. \nPlease let us know if you’re able to join us or if you’d like to run for one of the elected positions. \nMore details to come. \nPlease RSVP below
URL:https://www.themagicofchristmas.org/event/2021-annual-general-meeting-election/
LOCATION:Alberta
CATEGORIES:AGM
END:VEVENT
END:VCALENDAR