BEGIN:VCALENDAR
VERSION:2.0
PRODID:-//The Magic of Christmas - ECPv6.15.12.2//NONSGML v1.0//EN
CALSCALE:GREGORIAN
METHOD:PUBLISH
X-WR-CALNAME:The Magic of Christmas
X-ORIGINAL-URL:https://www.themagicofchristmas.org
X-WR-CALDESC:Events for The Magic of Christmas
REFRESH-INTERVAL;VALUE=DURATION:PT1H
X-Robots-Tag:noindex
X-PUBLISHED-TTL:PT1H
BEGIN:VTIMEZONE
TZID:America/Denver
BEGIN:DAYLIGHT
TZOFFSETFROM:-0700
TZOFFSETTO:-0600
TZNAME:MDT
DTSTART:20210314T090000
END:DAYLIGHT
BEGIN:STANDARD
TZOFFSETFROM:-0600
TZOFFSETTO:-0700
TZNAME:MST
DTSTART:20211107T080000
END:STANDARD
BEGIN:DAYLIGHT
TZOFFSETFROM:-0700
TZOFFSETTO:-0600
TZNAME:MDT
DTSTART:20220313T090000
END:DAYLIGHT
BEGIN:STANDARD
TZOFFSETFROM:-0600
TZOFFSETTO:-0700
TZNAME:MST
DTSTART:20221106T080000
END:STANDARD
BEGIN:DAYLIGHT
TZOFFSETFROM:-0700
TZOFFSETTO:-0600
TZNAME:MDT
DTSTART:20230312T090000
END:DAYLIGHT
BEGIN:STANDARD
TZOFFSETFROM:-0600
TZOFFSETTO:-0700
TZNAME:MST
DTSTART:20231105T080000
END:STANDARD
BEGIN:DAYLIGHT
TZOFFSETFROM:-0700
TZOFFSETTO:-0600
TZNAME:MDT
DTSTART:20240310T090000
END:DAYLIGHT
BEGIN:STANDARD
TZOFFSETFROM:-0600
TZOFFSETTO:-0700
TZNAME:MST
DTSTART:20241103T080000
END:STANDARD
BEGIN:DAYLIGHT
TZOFFSETFROM:-0700
TZOFFSETTO:-0600
TZNAME:MDT
DTSTART:20250309T090000
END:DAYLIGHT
BEGIN:STANDARD
TZOFFSETFROM:-0600
TZOFFSETTO:-0700
TZNAME:MST
DTSTART:20251102T080000
END:STANDARD
END:VTIMEZONE
BEGIN:VEVENT
DTSTART;TZID=America/Denver:20241215T100000
DTEND;TZID=America/Denver:20241215T140000
DTSTAMP:20260423T193142
CREATED:20241112T000107Z
LAST-MODIFIED:20241112T000107Z
UID:4409-1734256800-1734271200@www.themagicofchristmas.org
SUMMARY:Costume Try On - Elves - #5
DESCRIPTION: ELVES ONLY\nIf you’ve received a confirmation for a bus\, hospital or Santa party shift\, you can come to figure out your costume! \nDid you join our growing family of elves and Santas this year? The following costume fittings are for registered and confirmed bus and hospital route volunteers only. Costume fittings take place at our workshop.\nImportant: You must receive an email notification from us letting you know that you’ve been scheduled for a bus or hospital shift before attending one of the following. \nClick here to learn more about our volunteer opportunities. \nCostume fitting Dates\n\nView all the costume fitting dates we currently have available.
URL:https://www.themagicofchristmas.org/event/costume-try-on-elves-5-2/
LOCATION:Magic of Christmas Warehouse\, Bay #32\, 4216 54 Ave SE\, Calgary\, Alberta\, T2C 2E3\, Canada
CATEGORIES:Costumes,Elf Costume Tryon
ATTACH;FMTTYPE=image/png:https://themagicofchristmas.org/wp-content/uploads/2018/11/Elf.png
END:VEVENT
BEGIN:VEVENT
DTSTART;TZID=America/Denver:20241213T180000
DTEND;TZID=America/Denver:20241213T210000
DTSTAMP:20260423T193142
CREATED:20241111T235855Z
LAST-MODIFIED:20241111T235855Z
UID:4407-1734112800-1734123600@www.themagicofchristmas.org
SUMMARY:Costume Try On - Elves - #4
DESCRIPTION: ELVES ONLY\nIf you’ve received a confirmation for a bus\, hospital or Santa party shift\, you can come to figure out your costume! \nDid you join our growing family of elves and Santas this year? The following costume fittings are for registered and confirmed bus and hospital route volunteers only. Costume fittings take place at our workshop.\nImportant: You must receive an email notification from us letting you know that you’ve been scheduled for a bus or hospital shift before attending one of the following. \nClick here to learn more about our volunteer opportunities. \nCostume fitting Dates\n\nView all the costume fitting dates we currently have available.
URL:https://www.themagicofchristmas.org/event/costume-try-on-elves-4-2/
LOCATION:Magic of Christmas Warehouse\, Bay #32\, 4216 54 Ave SE\, Calgary\, Alberta\, T2C 2E3\, Canada
CATEGORIES:Costumes,Elf Costume Tryon
ATTACH;FMTTYPE=image/png:https://themagicofchristmas.org/wp-content/uploads/2018/11/Elf.png
END:VEVENT
BEGIN:VEVENT
DTSTART;TZID=America/Denver:20241211T180000
DTEND;TZID=America/Denver:20241211T203000
DTSTAMP:20260423T193142
CREATED:20241111T235638Z
LAST-MODIFIED:20241111T235638Z
UID:4405-1733940000-1733949000@www.themagicofchristmas.org
SUMMARY:Costume Try On - Elves - #3
DESCRIPTION: ELVES ONLY\nIf you’ve received a confirmation for a bus\, hospital or Santa party shift\, you can come to figure out your costume! \nDid you join our growing family of elves and Santas this year? The following costume fittings are for registered and confirmed bus and hospital route volunteers only. Costume fittings take place at our workshop.\nImportant: You must receive an email notification from us letting you know that you’ve been scheduled for a bus or hospital shift before attending one of the following. \nClick here to learn more about our volunteer opportunities. \nCostume fitting Dates\n\nView all the costume fitting dates we currently have available.
URL:https://www.themagicofchristmas.org/event/costume-try-on-elves-3/
LOCATION:Magic of Christmas Warehouse\, Bay #32\, 4216 54 Ave SE\, Calgary\, Alberta\, T2C 2E3\, Canada
CATEGORIES:Costumes,Elf Costume Tryon
ATTACH;FMTTYPE=image/png:https://themagicofchristmas.org/wp-content/uploads/2018/11/Elf.png
END:VEVENT
BEGIN:VEVENT
DTSTART;TZID=America/Denver:20241207T100000
DTEND;TZID=America/Denver:20241207T150000
DTSTAMP:20260423T193142
CREATED:20241111T235510Z
LAST-MODIFIED:20241111T235510Z
UID:4403-1733565600-1733583600@www.themagicofchristmas.org
SUMMARY:Costume Try On - Elves - #2
DESCRIPTION: ELVES ONLY\nIf you’ve received a confirmation for a bus\, hospital or Santa party shift\, you can come to figure out your costume! \nDid you join our growing family of elves and Santas this year? The following costume fittings are for registered and confirmed bus and hospital route volunteers only. Costume fittings take place at our workshop.\nImportant: You must receive an email notification from us letting you know that you’ve been scheduled for a bus or hospital shift before attending one of the following. \nClick here to learn more about our volunteer opportunities. \nCostume fitting Dates\n\nView all the costume fitting dates we currently have available.
URL:https://www.themagicofchristmas.org/event/costume-try-on-elves-2-2/
LOCATION:Magic of Christmas Warehouse\, Bay #32\, 4216 54 Ave SE\, Calgary\, Alberta\, T2C 2E3\, Canada
CATEGORIES:Costumes,Elf Costume Tryon
ATTACH;FMTTYPE=image/png:https://themagicofchristmas.org/wp-content/uploads/2018/11/Elf.png
END:VEVENT
BEGIN:VEVENT
DTSTART;TZID=America/Denver:20241201T133000
DTEND;TZID=America/Denver:20241201T173000
DTSTAMP:20260423T193142
CREATED:20241111T235328Z
LAST-MODIFIED:20241111T235328Z
UID:4401-1733059800-1733074200@www.themagicofchristmas.org
SUMMARY:Costume Try On - Elves - #1
DESCRIPTION: ELVES ONLY\nIf you’ve received a confirmation for a bus\, hospital or Santa party shift\, you can come to figure out your costume! \nDid you join our growing family of elves and Santas this year? The following costume fittings are for registered and confirmed bus and hospital route volunteers only. Costume fittings take place at our workshop.\nImportant: You must receive an email notification from us letting you know that you’ve been scheduled for a bus or hospital shift before attending one of the following. \nClick here to learn more about our volunteer opportunities. \nCostume fitting Dates\n\nView all the costume fitting dates we currently have available.
URL:https://www.themagicofchristmas.org/event/costume-try-on-elves-1-2/
LOCATION:Magic of Christmas Warehouse\, Bay #32\, 4216 54 Ave SE\, Calgary\, Alberta\, T2C 2E3\, Canada
CATEGORIES:Costumes,Elf Costume Tryon
ATTACH;FMTTYPE=image/png:https://themagicofchristmas.org/wp-content/uploads/2018/11/Elf.png
END:VEVENT
BEGIN:VEVENT
DTSTART;TZID=America/Denver:20231220T180000
DTEND;TZID=America/Denver:20231220T210000
DTSTAMP:20260423T193142
CREATED:20231218T015019Z
LAST-MODIFIED:20231218T015224Z
UID:4121-1703095200-1703106000@www.themagicofchristmas.org
SUMMARY:Costume Try On - Elves & Santas #2
DESCRIPTION: ELVES AND SANTAS\nIf you’ve received a confirmation for a bus\, hospital or Santa party shift\, you can come to figure out your costume! \nDid you join our growing family of elves and Santas this year? The following costume fittings are for registered and confirmed bus and hospital route volunteers only. Costume fittings take place at our workshop.\nImportant: You must receive an email notification from us letting you know that you’ve been scheduled for a bus or hospital shift before attending one of the following. \nClick here to learn more about our volunteer opportunities. \nCostume fitting Dates\n\nView all the costume fitting dates we currently have available.
URL:https://www.themagicofchristmas.org/event/costume-try-on-elves-santas-2/
LOCATION:Magic of Christmas Warehouse\, Bay #32\, 4216 54 Ave SE\, Calgary\, Alberta\, T2C 2E3\, Canada
CATEGORIES:Costumes,Elf Costume Tryon,Santa Costume Tryon
ATTACH;FMTTYPE=image/jpeg:https://themagicofchristmas.org/wp-content/uploads/2018/11/Santa-Elf.jpg
END:VEVENT
BEGIN:VEVENT
DTSTART;TZID=America/Denver:20231217T110000
DTEND;TZID=America/Denver:20231217T160000
DTSTAMP:20260423T193142
CREATED:20231123T030754Z
LAST-MODIFIED:20231218T155251Z
UID:4029-1702810800-1702828800@www.themagicofchristmas.org
SUMMARY:Costume Try On - Elves & Santas
DESCRIPTION: ELVES AND SANTAS\nIf you’ve received a confirmation for a bus\, hospital or Santa party shift\, you can come to figure out your costume! \nDid you join our growing family of elves and Santas this year? The following costume fittings are for registered and confirmed bus and hospital route volunteers only. Costume fittings take place at our workshop.\nImportant: You must receive an email notification from us letting you know that you’ve been scheduled for a bus or hospital shift before attending one of the following. \nClick here to learn more about our volunteer opportunities. \nCostume fitting Dates\n\nView all the costume fitting dates we currently have available.
URL:https://www.themagicofchristmas.org/event/costume-try-on-elves-santas/
LOCATION:Magic of Christmas Warehouse\, Bay #32\, 4216 54 Ave SE\, Calgary\, Alberta\, T2C 2E3\, Canada
CATEGORIES:Costumes,Elf Costume Tryon,Santa Costume Tryon
ATTACH;FMTTYPE=image/jpeg:https://themagicofchristmas.org/wp-content/uploads/2018/11/Santa-Elf.jpg
END:VEVENT
BEGIN:VEVENT
DTSTART;TZID=America/Denver:20231214T173000
DTEND;TZID=America/Denver:20231214T203000
DTSTAMP:20260423T193142
CREATED:20231123T030211Z
LAST-MODIFIED:20231123T031856Z
UID:4027-1702575000-1702585800@www.themagicofchristmas.org
SUMMARY:Costume Try On - Elves - #5
DESCRIPTION: ELVES ONLY\nIf you’ve received a confirmation for a bus\, hospital or Santa party shift\, you can come to figure out your costume! \nDid you join our growing family of elves and Santas this year? The following costume fittings are for registered and confirmed bus and hospital route volunteers only. Costume fittings take place at our workshop.\nImportant: You must receive an email notification from us letting you know that you’ve been scheduled for a bus or hospital shift before attending one of the following. \nClick here to learn more about our volunteer opportunities. \nCostume fitting Dates\n\nView all the costume fitting dates we currently have available.
URL:https://www.themagicofchristmas.org/event/costume-try-on-elves-5/
LOCATION:Magic of Christmas Warehouse\, Bay #32\, 4216 54 Ave SE\, Calgary\, Alberta\, T2C 2E3\, Canada
CATEGORIES:Costumes,Elf Costume Tryon
ATTACH;FMTTYPE=image/png:https://themagicofchristmas.org/wp-content/uploads/2018/11/Elf.png
END:VEVENT
BEGIN:VEVENT
DTSTART;TZID=America/Denver:20231211T173000
DTEND;TZID=America/Denver:20231211T203000
DTSTAMP:20260423T193142
CREATED:20231123T025733Z
LAST-MODIFIED:20231123T032335Z
UID:4024-1702315800-1702326600@www.themagicofchristmas.org
SUMMARY:Costume Try On - Elves - #4
DESCRIPTION: ELVES ONLY\nIf you’ve received a confirmation for a bus\, hospital or Santa party shift\, you can come to figure out your costume! \nDid you join our growing family of elves and Santas this year? The following costume fittings are for registered and confirmed bus and hospital route volunteers only. Costume fittings take place at our workshop.\nImportant: You must receive an email notification from us letting you know that you’ve been scheduled for a bus or hospital shift before attending one of the following. \nClick here to learn more about our volunteer opportunities. \nCostume fitting Dates\n\nView all the costume fitting dates we currently have available.
URL:https://www.themagicofchristmas.org/event/costume-try-on-elves-4/
LOCATION:Magic of Christmas Warehouse\, Bay #32\, 4216 54 Ave SE\, Calgary\, Alberta\, T2C 2E3\, Canada
CATEGORIES:Costumes,Elf Costume Tryon
ATTACH;FMTTYPE=image/png:https://themagicofchristmas.org/wp-content/uploads/2018/11/Elf.png
END:VEVENT
BEGIN:VEVENT
DTSTART;TZID=America/Denver:20231206T173000
DTEND;TZID=America/Denver:20231206T203000
DTSTAMP:20260423T193142
CREATED:20231123T025335Z
LAST-MODIFIED:20231123T032233Z
UID:4022-1701883800-1701894600@www.themagicofchristmas.org
SUMMARY:Costume Try Ons - Elves - #3
DESCRIPTION: ELVES ONLY\nIf you’ve received a confirmation for a bus\, hospital or Santa party shift\, you can come to figure out your costume! \nDid you join our growing family of elves and Santas this year? The following costume fittings are for registered and confirmed bus and hospital route volunteers only. Costume fittings take place at our workshop.\nImportant: You must receive an email notification from us letting you know that you’ve been scheduled for a bus or hospital shift before attending one of the following. \nClick here to learn more about our volunteer opportunities. \nCostume fitting Dates\n\nView all the costume fitting dates we currently have available.
URL:https://www.themagicofchristmas.org/event/costume-try-ons-elves-3/
LOCATION:Magic of Christmas Warehouse\, Bay #32\, 4216 54 Ave SE\, Calgary\, Alberta\, T2C 2E3\, Canada
CATEGORIES:Costumes,Elf Costume Tryon
ATTACH;FMTTYPE=image/png:https://themagicofchristmas.org/wp-content/uploads/2018/11/Elf.png
END:VEVENT
BEGIN:VEVENT
DTSTART;TZID=America/Denver:20231203T100000
DTEND;TZID=America/Denver:20231203T150000
DTSTAMP:20260423T193142
CREATED:20231123T025018Z
LAST-MODIFIED:20231123T032104Z
UID:4020-1701597600-1701615600@www.themagicofchristmas.org
SUMMARY:Costume Try On - Elves - #2
DESCRIPTION: ELVES ONLY\nIf you’ve received a confirmation for a bus\, hospital or Santa party shift\, you can come to figure out your costume! \nDid you join our growing family of elves and Santas this year? The following costume fittings are for registered and confirmed bus and hospital route volunteers only. Costume fittings take place at our workshop.\nImportant: You must receive an email notification from us letting you know that you’ve been scheduled for a bus or hospital shift before attending one of the following. \nClick here to learn more about our volunteer opportunities. \nCostume fitting Dates\n\nView all the costume fitting dates we currently have available.
URL:https://www.themagicofchristmas.org/event/costume-try-on-elves-2/
LOCATION:Magic of Christmas Warehouse\, Bay #32\, 4216 54 Ave SE\, Calgary\, Alberta\, T2C 2E3\, Canada
CATEGORIES:Costumes,Elf Costume Tryon
ATTACH;FMTTYPE=image/png:https://themagicofchristmas.org/wp-content/uploads/2018/11/Elf.png
END:VEVENT
BEGIN:VEVENT
DTSTART;TZID=America/Denver:20231202T153000
DTEND;TZID=America/Denver:20231202T193000
DTSTAMP:20260423T193142
CREATED:20231123T005518Z
LAST-MODIFIED:20231123T032011Z
UID:4015-1701531000-1701545400@www.themagicofchristmas.org
SUMMARY:Costume Try On - Elves - #1
DESCRIPTION: ELVES ONLY\nIf you’ve received a confirmation for a bus\, hospital or Santa party shift\, you can come to figure out your costume! \nDid you join our growing family of elves and Santas this year? The following costume fittings are for registered and confirmed bus and hospital route volunteers only. Costume fittings take place at our workshop.\nImportant: You must receive an email notification from us letting you know that you’ve been scheduled for a bus or hospital shift before attending one of the following. \nClick here to learn more about our volunteer opportunities. \nCostume fitting Dates\n\nView all the costume fitting dates we currently have available.
URL:https://www.themagicofchristmas.org/event/costume-try-on-elves-1/
LOCATION:Magic of Christmas Warehouse\, Bay #32\, 4216 54 Ave SE\, Calgary\, Alberta\, T2C 2E3\, Canada
CATEGORIES:Costumes,Elf Costume Tryon
ATTACH;FMTTYPE=image/png:https://themagicofchristmas.org/wp-content/uploads/2018/11/Elf.png
END:VEVENT
BEGIN:VEVENT
DTSTART;TZID=America/Denver:20221219T130000
DTEND;TZID=America/Denver:20221219T193000
DTSTAMP:20260423T193142
CREATED:20221216T191716Z
LAST-MODIFIED:20221216T191716Z
UID:3672-1671454800-1671478200@www.themagicofchristmas.org
SUMMARY:Costume Try-Ons Day 5
DESCRIPTION:If you’ve received a confirmation for a bus\, hospital or santa party shift\, you can come to figure out your costume! \nDid you join our growing family of elves and Santas this year? The following costume fittings are for registered and confirmed bus and hospital route volunteers only. Costume fittings take place at our workshop.\nImportant: You must receive an email notification from us letting you know that you’ve been scheduled for a bus or hospital shift before attending one of the following. \nClick here to learn more about our volunteer opportunities. \nCostume fitting Dates\n\nView the costume fitting dates we currently have available. \nDo you have your own costume?  Please let us know! \nGo back to the events page.
URL:https://www.themagicofchristmas.org/event/costume-try-ons-day-5/
LOCATION:Magic of Christmas Warehouse\, Bay #32\, 4216 54 Ave SE\, Calgary\, Alberta\, T2C 2E3\, Canada
CATEGORIES:Costumes,Elf Costume Tryon,Santa Costume Tryon
END:VEVENT
BEGIN:VEVENT
DTSTART;TZID=America/Denver:20221214T160000
DTEND;TZID=America/Denver:20221214T200000
DTSTAMP:20260423T193142
CREATED:20221207T063130Z
LAST-MODIFIED:20221208T021025Z
UID:3645-1671033600-1671048000@www.themagicofchristmas.org
SUMMARY:Costume Try-Ons - Day 4
DESCRIPTION:If you’ve received a confirmation for a bus\, hospital or santa party shift\, you can come to figure out your costume! \nDid you join our growing family of elves and Santas this year? The following costume fittings are for registered and confirmed bus and hospital route volunteers only. Costume fittings take place at our workshop.\nImportant: You must receive an email notification from us letting you know that you’ve been scheduled for a bus or hospital shift before attending one of the following. \nClick here to learn more about our volunteer opportunities. \nCostume fitting Dates\n\nView the costume fitting dates we currently have available. \nDo you have your own costume?  Please let us know! \nGo back to the events page.
URL:https://www.themagicofchristmas.org/event/costume-try-ons-day-4/
LOCATION:Magic of Christmas Warehouse\, Bay #32\, 4216 54 Ave SE\, Calgary\, Alberta\, T2C 2E3\, Canada
CATEGORIES:Costumes,Elf Costume Tryon
END:VEVENT
BEGIN:VEVENT
DTSTART;TZID=America/Denver:20221205T160000
DTEND;TZID=America/Denver:20221205T200000
DTSTAMP:20260423T193142
CREATED:20221125T230022Z
LAST-MODIFIED:20221125T230022Z
UID:3622-1670256000-1670270400@www.themagicofchristmas.org
SUMMARY:Costume Try-Ons - Day 3
DESCRIPTION:If you’ve received a confirmation for a bus\, hospital or santa party shift\, you can come to figure out your costume! \nDid you join our growing family of elves and Santas this year? The following costume fittings are for registered and confirmed bus and hospital route volunteers only. Costume fittings take place at our workshop.\nImportant: You must receive an email notification from us letting you know that you’ve been scheduled for a bus or hospital shift before attending one of the following. \nClick here to learn more about our volunteer opportunities. \nCostume fitting Dates\n\nView the costume fitting dates we currently have available. \nDo you have your own costume?  Please let us know! \nGo back to the events page.
URL:https://www.themagicofchristmas.org/event/costume-try-ons-day-3/
LOCATION:Alberta
CATEGORIES:Costumes,Elf Costume Tryon,Santa Costume Tryon
END:VEVENT
BEGIN:VEVENT
DTSTART;TZID=America/Denver:20221204T110000
DTEND;TZID=America/Denver:20221204T150000
DTSTAMP:20260423T193142
CREATED:20221125T225818Z
LAST-MODIFIED:20221125T225848Z
UID:3619-1670151600-1670166000@www.themagicofchristmas.org
SUMMARY:Costume Try-Ons Day 2
DESCRIPTION:If you’ve received a confirmation for a bus\, hospital or santa party shift\, you can come to figure out your costume! \nDid you join our growing family of elves and Santas this year? The following costume fittings are for registered and confirmed bus and hospital route volunteers only. Costume fittings take place at our workshop.\nImportant: You must receive an email notification from us letting you know that you’ve been scheduled for a bus or hospital shift before attending one of the following. \nClick here to learn more about our volunteer opportunities. \nCostume fitting Dates\n\nView the costume fitting dates we currently have available. \nDo you have your own costume?  Please let us know! \nGo back to the events page.
URL:https://www.themagicofchristmas.org/event/3619/
LOCATION:Magic of Christmas Warehouse\, Bay #32\, 4216 54 Ave SE\, Calgary\, Alberta\, T2C 2E3\, Canada
CATEGORIES:Costumes,Elf Costume Tryon,Santa Costume Tryon
END:VEVENT
BEGIN:VEVENT
DTSTART;TZID=America/Denver:20221203T150000
DTEND;TZID=America/Denver:20221203T180000
DTSTAMP:20260423T193142
CREATED:20221125T225551Z
LAST-MODIFIED:20221125T225650Z
UID:2257-1670079600-1670090400@www.themagicofchristmas.org
SUMMARY:Costume Try-ons - After Elf Rally
DESCRIPTION:If you’ve received a confirmation for a bus\, hospital or santa party shift\, you can come to figure out your costume! \nDid you join our growing family of elves and Santas this year? The following costume fittings are for registered and confirmed bus and hospital route volunteers only. Costume fittings take place at our workshop.\nImportant: You must receive an email notification from us letting you know that you’ve been scheduled for a bus or hospital shift before attending one of the following. \nClick here to learn more about our volunteer opportunities. \nCostume fitting Dates\n\nView the costume fitting dates we currently have available. \nDo you have your own costume?  Please let us know! \nGo back to the events page.
URL:https://www.themagicofchristmas.org/event/costume-try-ons-after-elf-rally/
LOCATION:Magic of Christmas Warehouse\, Bay #32\, 4216 54 Ave SE\, Calgary\, Alberta\, T2C 2E3\, Canada
CATEGORIES:Costumes,Elf Costume Tryon,Santa Costume Tryon
END:VEVENT
END:VCALENDAR