BEGIN:VCALENDAR
VERSION:2.0
PRODID:-//The Magic of Christmas - ECPv6.15.12.2//NONSGML v1.0//EN
CALSCALE:GREGORIAN
METHOD:PUBLISH
X-ORIGINAL-URL:https://www.themagicofchristmas.org
X-WR-CALDESC:Events for The Magic of Christmas
REFRESH-INTERVAL;VALUE=DURATION:PT1H
X-Robots-Tag:noindex
X-PUBLISHED-TTL:PT1H
BEGIN:VTIMEZONE
TZID:America/Denver
BEGIN:DAYLIGHT
TZOFFSETFROM:-0700
TZOFFSETTO:-0600
TZNAME:MDT
DTSTART:20220313T090000
END:DAYLIGHT
BEGIN:STANDARD
TZOFFSETFROM:-0600
TZOFFSETTO:-0700
TZNAME:MST
DTSTART:20221106T080000
END:STANDARD
BEGIN:DAYLIGHT
TZOFFSETFROM:-0700
TZOFFSETTO:-0600
TZNAME:MDT
DTSTART:20230312T090000
END:DAYLIGHT
BEGIN:STANDARD
TZOFFSETFROM:-0600
TZOFFSETTO:-0700
TZNAME:MST
DTSTART:20231105T080000
END:STANDARD
BEGIN:DAYLIGHT
TZOFFSETFROM:-0700
TZOFFSETTO:-0600
TZNAME:MDT
DTSTART:20240310T090000
END:DAYLIGHT
BEGIN:STANDARD
TZOFFSETFROM:-0600
TZOFFSETTO:-0700
TZNAME:MST
DTSTART:20241103T080000
END:STANDARD
END:VTIMEZONE
BEGIN:VEVENT
DTSTART;TZID=America/Denver:20231104T130000
DTEND;TZID=America/Denver:20231104T140000
DTSTAMP:20260425T104146
CREATED:20231015T041218Z
LAST-MODIFIED:20231026T003537Z
UID:3890-1699102800-1699106400@www.themagicofchristmas.org
SUMMARY:Santa party info session
DESCRIPTION:Did you know that organizations can “rent” a Santa and Elves to come to their Christmas Party? For years\, this has been a great fundraising opportunity for us. We are looking for elves and Santa’s who can volunteer from the beginning of November to mid-December to attend cooperate and community Christmas parties to spread some magic!   \nIf this sounds like something you are interested in\, please contact Courtney at volunteer@themagicofchristmas.org! 
URL:https://www.themagicofchristmas.org/event/santa-party-info-session/
LOCATION:Magic of Christmas Warehouse\, Bay #32\, 4216 54 Ave SE\, Calgary\, Alberta\, T2C 2E3\, Canada
CATEGORIES:Santa Parties,Training
END:VEVENT
BEGIN:VEVENT
DTSTART;TZID=America/Denver:20231126T100000
DTEND;TZID=America/Denver:20231126T150000
DTSTAMP:20260425T104146
CREATED:20231115T195102Z
LAST-MODIFIED:20231116T003238Z
UID:3988-1700992800-1701010800@www.themagicofchristmas.org
SUMMARY:2023 Paws & Claus for the Magic
DESCRIPTION:Calling All Paws! ‘Tis the Season for photos with Santa. \n\n\nThere is a seat for every pet in Santa’s sleigh. Cuteness overload alert! Santa and his elves are excited to pose with your sweet bundle of fur. \n\n\nAll proceeds raised from this event will support The Magic of Christmas. 
URL:https://www.themagicofchristmas.org/event/2023-paws-claus-for-the-magic/
LOCATION:Magic of Christmas Warehouse\, Bay #32\, 4216 54 Ave SE\, Calgary\, Alberta\, T2C 2E3\, Canada
CATEGORIES:Fundraising
END:VEVENT
BEGIN:VEVENT
DTSTART;TZID=America/Denver:20231130T070000
DTEND;TZID=America/Denver:20231130T090000
DTSTAMP:20260425T104146
CREATED:20231012T164517Z
LAST-MODIFIED:20231128T164725Z
UID:3872-1701327600-1701334800@www.themagicofchristmas.org
SUMMARY:2023 Global Cookie Sale
DESCRIPTION:Come get your Christmas started with cookies baked by Calgary’s best chefs! \nJoin us for Global’s 2023 Cookie Sale in support of The Magic of Christmas \n \nGlobal New Story\n‘A morning of good feelings and smells’: Global News Calgary holiday cookie sale returns – Calgary | Globalnews.ca \nHow does it work?\nBuy a punch card for $25 and get 13 cookies from 50+ Calgary chefs situated around the ATCO Blue Flame Kitchen. \nAll the proceeds go to The Magic of Christmas \nSome pics from the 2022 event
URL:https://www.themagicofchristmas.org/event/2023-global-cookie-sale/
LOCATION:ATCO Blue Flame Kitchen\, 5302 Forand St SW\, Calgary\, Alberta\, T3E 8B4\, Canada
CATEGORIES:Fundraising,Global
ATTACH;FMTTYPE=image/png:https://themagicofchristmas.org/wp-content/uploads/2023/10/Cookie-Sale-2023-Feature-Image-2.png
END:VEVENT
END:VCALENDAR