BEGIN:VCALENDAR
VERSION:2.0
PRODID:-//The Magic of Christmas - ECPv6.15.12.2//NONSGML v1.0//EN
CALSCALE:GREGORIAN
METHOD:PUBLISH
X-ORIGINAL-URL:https://www.themagicofchristmas.org
X-WR-CALDESC:Events for The Magic of Christmas
REFRESH-INTERVAL;VALUE=DURATION:PT1H
X-Robots-Tag:noindex
X-PUBLISHED-TTL:PT1H
BEGIN:VTIMEZONE
TZID:America/Denver
BEGIN:DAYLIGHT
TZOFFSETFROM:-0700
TZOFFSETTO:-0600
TZNAME:MDT
DTSTART:20220313T090000
END:DAYLIGHT
BEGIN:STANDARD
TZOFFSETFROM:-0600
TZOFFSETTO:-0700
TZNAME:MST
DTSTART:20221106T080000
END:STANDARD
BEGIN:DAYLIGHT
TZOFFSETFROM:-0700
TZOFFSETTO:-0600
TZNAME:MDT
DTSTART:20230312T090000
END:DAYLIGHT
BEGIN:STANDARD
TZOFFSETFROM:-0600
TZOFFSETTO:-0700
TZNAME:MST
DTSTART:20231105T080000
END:STANDARD
BEGIN:DAYLIGHT
TZOFFSETFROM:-0700
TZOFFSETTO:-0600
TZNAME:MDT
DTSTART:20240310T090000
END:DAYLIGHT
BEGIN:STANDARD
TZOFFSETFROM:-0600
TZOFFSETTO:-0700
TZNAME:MST
DTSTART:20241103T080000
END:STANDARD
END:VTIMEZONE
BEGIN:VEVENT
DTSTART;VALUE=DATE:20231201
DTEND;VALUE=DATE:20231224
DTSTAMP:20260425T104405
CREATED:20231125T170450Z
LAST-MODIFIED:20231223T004745Z
UID:4049-1701388800-1703375999@www.themagicofchristmas.org
SUMMARY:Elfin' Challenge
DESCRIPTION:Are you up for the Elfin’ Challenge?\nOpen to all Magic of Christmas volunteers. We challenge your team to raise the most money and be an even bigger part of making the magic happen. \nYou can help raise $10\,000 for the 40th anniversary! \nHow it works in two easy steps!\n\nStep 1:  Figure out what bus you or your team will be helping with on Christmas Eve.\nStep 2:  Everyone on the bus or team spreads the word – share this link on social and by email with everyone you know to ask them to donate to your bus/team from the drop-down list to help you win the Elfin’ Challenge.\n\nWinning the Elfin’ Challenge\nThe top three teams/busses who raise the most by December 22 will get a prize! \n\nFirst Prize – The top fundraising team wins a boxed lunch/dinner for the bus/team on Christmas Eve\nSecond Prize – The second-highest fundraising team wins a $50 gift card to buy lunch for their team/bus\nThird Prize – The third-highest fundraising team wins a $25 gift card to buy snacks for their team/bus\n\nNOTE: The bus teams are not separated into am and pm\, so if  ‘Bus – Rudolph’ is the top fundraising team then BOTH am and pm busses get the boxed lunch! \n \n 
URL:https://www.themagicofchristmas.org/event/elfin-challenge/
CATEGORIES:Elfin' Challenge,Fundraising
ATTACH;FMTTYPE=image/jpeg:https://themagicofchristmas.org/wp-content/uploads/2023/11/Bus-Team.jpg
END:VEVENT
END:VCALENDAR