BEGIN:VCALENDAR
VERSION:2.0
PRODID:-//The Magic of Christmas - ECPv6.15.12.2//NONSGML v1.0//EN
CALSCALE:GREGORIAN
METHOD:PUBLISH
X-WR-CALNAME:The Magic of Christmas
X-ORIGINAL-URL:https://www.themagicofchristmas.org
X-WR-CALDESC:Events for The Magic of Christmas
REFRESH-INTERVAL;VALUE=DURATION:PT1H
X-Robots-Tag:noindex
X-PUBLISHED-TTL:PT1H
BEGIN:VTIMEZONE
TZID:America/Denver
BEGIN:DAYLIGHT
TZOFFSETFROM:-0700
TZOFFSETTO:-0600
TZNAME:MDT
DTSTART:20210314T090000
END:DAYLIGHT
BEGIN:STANDARD
TZOFFSETFROM:-0600
TZOFFSETTO:-0700
TZNAME:MST
DTSTART:20211107T080000
END:STANDARD
BEGIN:DAYLIGHT
TZOFFSETFROM:-0700
TZOFFSETTO:-0600
TZNAME:MDT
DTSTART:20220313T090000
END:DAYLIGHT
BEGIN:STANDARD
TZOFFSETFROM:-0600
TZOFFSETTO:-0700
TZNAME:MST
DTSTART:20221106T080000
END:STANDARD
BEGIN:DAYLIGHT
TZOFFSETFROM:-0700
TZOFFSETTO:-0600
TZNAME:MDT
DTSTART:20230312T090000
END:DAYLIGHT
BEGIN:STANDARD
TZOFFSETFROM:-0600
TZOFFSETTO:-0700
TZNAME:MST
DTSTART:20231105T080000
END:STANDARD
END:VTIMEZONE
BEGIN:VEVENT
DTSTART;TZID=America/Denver:20221201T070000
DTEND;TZID=America/Denver:20221201T090000
DTSTAMP:20260425T214634
CREATED:20221114T024209Z
LAST-MODIFIED:20221118T212503Z
UID:3554-1669878000-1669885200@www.themagicofchristmas.org
SUMMARY:2022 Global Calgary Cookie Sale
DESCRIPTION:Join Leslie Horton and Global News for a holiday Cookie Sale on Thursday\, December 1 from 7-9 a.m. at the Blue Flame Kitchen at ATCO Park.\nLocal Calgary chefs are baking up their best recipes with all proceeds going to Global Calgary’s Morning of Giving (in support of The Magic of Christmas) – helping families in need celebrate Christmas.\nPricing is $20 for a baker’s dozen.
URL:https://www.themagicofchristmas.org/event/2022-global-calgary-cookie-sale/
LOCATION:ATCO Blue Flame Kitchen\, 5302 Forand St SW\, Calgary\, Alberta\, T3E 8B4\, Canada
CATEGORIES:Fundraising,Global
ATTACH;FMTTYPE=image/jpeg:https://themagicofchristmas.org/wp-content/uploads/2022/11/Cookie-Sale-1200x630-FB.jpg
END:VEVENT
BEGIN:VEVENT
DTSTART;TZID=America/Denver:20221207T060000
DTEND;TZID=America/Denver:20221207T090000
DTSTAMP:20260425T214634
CREATED:20221114T063805Z
LAST-MODIFIED:20221123T225748Z
UID:3574-1670392800-1670403600@www.themagicofchristmas.org
SUMMARY:2022 Global Calgary Morning of Giving
DESCRIPTION:After a two-year break (and two years of a Month of Giving)\, Global Calgary hosts its fifth Morning of Giving on Wednesday\, December 7 from 6 – 9 a.m. in support of The Magic of Christmas.\nJoin Leslie Horton and our donation drive-thru at our Global Calgary studios (222 23 St. NE) and drop off a new\, unwrapped gift for any age (household items\, clothing\, toys\, electronics\, etc.) to help Calgary families in need.
URL:https://www.themagicofchristmas.org/event/2022-global-calgary-morning-of-giving/
LOCATION:Global Calgary Studio\, 222 23 Street NE\, Calgary\, Alberta\, T2E 7N2\, Canada
CATEGORIES:Fundraising,Global
ATTACH;FMTTYPE=image/jpeg:https://themagicofchristmas.org/wp-content/uploads/2022/11/Morning-of-Giving-FB-1200x630-1.jpg
END:VEVENT
END:VCALENDAR