BEGIN:VCALENDAR
VERSION:2.0
PRODID:-//The Magic of Christmas - ECPv6.15.12.2//NONSGML v1.0//EN
CALSCALE:GREGORIAN
METHOD:PUBLISH
X-WR-CALNAME:The Magic of Christmas
X-ORIGINAL-URL:https://www.themagicofchristmas.org
X-WR-CALDESC:Events for The Magic of Christmas
REFRESH-INTERVAL;VALUE=DURATION:PT1H
X-Robots-Tag:noindex
X-PUBLISHED-TTL:PT1H
BEGIN:VTIMEZONE
TZID:America/Denver
BEGIN:DAYLIGHT
TZOFFSETFROM:-0700
TZOFFSETTO:-0600
TZNAME:MDT
DTSTART:20190310T090000
END:DAYLIGHT
BEGIN:STANDARD
TZOFFSETFROM:-0600
TZOFFSETTO:-0700
TZNAME:MST
DTSTART:20191103T080000
END:STANDARD
BEGIN:DAYLIGHT
TZOFFSETFROM:-0700
TZOFFSETTO:-0600
TZNAME:MDT
DTSTART:20200308T090000
END:DAYLIGHT
BEGIN:STANDARD
TZOFFSETFROM:-0600
TZOFFSETTO:-0700
TZNAME:MST
DTSTART:20201101T080000
END:STANDARD
BEGIN:DAYLIGHT
TZOFFSETFROM:-0700
TZOFFSETTO:-0600
TZNAME:MDT
DTSTART:20210314T090000
END:DAYLIGHT
BEGIN:STANDARD
TZOFFSETFROM:-0600
TZOFFSETTO:-0700
TZNAME:MST
DTSTART:20211107T080000
END:STANDARD
BEGIN:DAYLIGHT
TZOFFSETFROM:-0700
TZOFFSETTO:-0600
TZNAME:MDT
DTSTART:20220313T090000
END:DAYLIGHT
BEGIN:STANDARD
TZOFFSETFROM:-0600
TZOFFSETTO:-0700
TZNAME:MST
DTSTART:20221106T080000
END:STANDARD
BEGIN:DAYLIGHT
TZOFFSETFROM:-0700
TZOFFSETTO:-0600
TZNAME:MDT
DTSTART:20230312T090000
END:DAYLIGHT
BEGIN:STANDARD
TZOFFSETFROM:-0600
TZOFFSETTO:-0700
TZNAME:MST
DTSTART:20231105T080000
END:STANDARD
END:VTIMEZONE
BEGIN:VEVENT
DTSTART;TZID=America/Denver:20221126T113000
DTEND;TZID=America/Denver:20221126T123000
DTSTAMP:20260424T012538
CREATED:20221112T192138Z
LAST-MODIFIED:20221125T165733Z
UID:3540-1669462200-1669465800@www.themagicofchristmas.org
SUMMARY:2022 Dog Christmas PawTY
DESCRIPTION:Calling All Party Dogs! ‘Tis the Season for a Christmas PawTY and photos with Santa. \n⬇️⬇️⬇️Get your tickets using the link below for a play experience at one of Calgary’s private off-leash parks\, Play Unleashed: https://www.canadahelps.org/en/charities/the-magic-of-christmas-a-non-profit-charitable-society/events/dog-christmas-pawty-2022/ \nThere is a PawTY for every dog\, from puppies to mature dogs who enjoy a slower pace.\nCuteness overload alert! Santa and his elves are excited to PawTY with your sweet bundle of fur. \nAll proceeds raised from this event will support The Magic of Christmas. \nThe VIP Experience\n\nDogs with a VIP PawTY Experience Pass will be directed to Santa’s Enchanted Forest at a designated time for their professional portrait sitting.\nVIPs will receive a printed copy of the portrait that same day.\nTickets are selling out quick. Get your tickets now!\n\nBefore the PawTY\n\nYour dog’s vaccination records and other forms must be received before the event. These details will be provided with the registration email.\nOnce you purchase your ticket(s)\, you will receive an automatic email from Canada Helps with your electronic ticket and registration confirmation.\nPlease watch for additional emails from jkaytor@themagicofchristmas.org.\nThe first email will request information on your dog’s play preference\, current vaccination records\, and a waiver.\nYou will also receive an email with park play details and a check-in time.\n\nOn the day of the PawTY\n\nUpon arrival\, you and your dog will be greeted by an Elf host for check-in\, and you’ll be directed to your designated PawTY.\nPlease keep your dog on a leash until inside your designated PawTY play area.\nEach PawTY area may have up to 15 dogs.\nChristmas celebrities will be making special appearances at each PawTY\, so have your camera ready.\nThis is a live environment with off-leash dogs. You must read and agree to Play Unleashed park rules and sign a liability waiver before attending the event.\n\nSpecial thanks to our Media Sponsor: Family Fun Calgary
URL:https://www.themagicofchristmas.org/event/2022-dog-christmas-pawty/
LOCATION:Play Unleashed\, 10135 Township Road 264\, Rocky View County\, Alberta\, T4B 2Z8\, Canada
CATEGORIES:Fundraising
ATTACH;FMTTYPE=image/jpeg:https://themagicofchristmas.org/wp-content/uploads/2022/11/CanadaHelps-banner-2022.jpg
END:VEVENT
BEGIN:VEVENT
DTSTART;TZID=America/Denver:20221105T130000
DTEND;TZID=America/Denver:20221105T140000
DTSTAMP:20260424T012538
CREATED:20220924T131127Z
LAST-MODIFIED:20221009T212124Z
UID:3460-1667653200-1667656800@www.themagicofchristmas.org
SUMMARY:Party Elf & Party Santa Orientation Day
DESCRIPTION:Party Santa’s and Party Elves attend various community and cooperate Christmas parties throughout November and December. We’ve prepared an Orientation for all Party Santa’s and Elves on important information you need to know in order to carry out your elfing duties at these parties.  \nTime: 1-2pm
URL:https://www.themagicofchristmas.org/event/party-elf-party-santa-orientation-day/
LOCATION:Magic of Christmas Warehouse\, Bay #32\, 4216 54 Ave SE\, Calgary\, Alberta\, T2C 2E3\, Canada
CATEGORIES:Santa Parties
ORGANIZER;CN="Volunteer Coordinator":MAILTO:volunteer@themagicofchristmas.org
END:VEVENT
BEGIN:VEVENT
DTSTART;VALUE=DATE:20221001
DTEND;VALUE=DATE:20221022
DTSTAMP:20260424T012538
CREATED:20221009T203034Z
LAST-MODIFIED:20221009T203642Z
UID:3493-1664582400-1666396799@www.themagicofchristmas.org
SUMMARY:Holiday Favourites Cookbook Submissions
DESCRIPTION:As a fundraiser this year we have decided to create our very own “Magic of Christmas\, Holiday Favourites” cookbook! Want to be part of this great initiative? Send us your favorite holiday recipe(s) to leave a piece of your family tradition on the record! Any and all recipes are welcomed! \nThe final product will be available for purchase later this year! Please send your recipes to jkane@themagicofchristmas.org by OCTOBER 21ST
URL:https://www.themagicofchristmas.org/event/holiday-favourites-cookbook-submissions/
LOCATION:Alberta
CATEGORIES:Cookbook,Fundraising
END:VEVENT
BEGIN:VEVENT
DTSTART;VALUE=DATE:20211106
DTEND;VALUE=DATE:20211108
DTSTAMP:20260424T012538
CREATED:20211102T002318Z
LAST-MODIFIED:20211102T002336Z
UID:3232-1636156800-1636329599@www.themagicofchristmas.org
SUMMARY:The Magic of Christmas Craft Fair
DESCRIPTION:Get an early start on your Christmas shopping as you discover many 100% hand-crafted items made by our volunteers. You’re bound to find some perfect gifts 🎁for your friends and family while supporting The Magic of Christmas. \n\n\nSneak peek to some goodies our volunteers made:\n\nChristmas ornaments\nWreaths\nCandles\nKnitted toques\, scarves\, mittens\nand more\n\n\nFree admission\, donations welcome. \n\n\n \n\n\nProof of vaccination or negative test is required at the entrance up front. Masks are mandatory inside Santa’s workshop. \nFree parking in front of the building or roadside on 5th St. NE. 
URL:https://www.themagicofchristmas.org/event/the-magic-of-christmas-first-craft-fair/
LOCATION:Magic of Christmas Warehouse\, Bay #32\, 4216 54 Ave SE\, Calgary\, Alberta\, T2C 2E3\, Canada
CATEGORIES:Fundraising
ATTACH;FMTTYPE=image/jpeg:https://themagicofchristmas.org/wp-content/uploads/2021/11/Craft-Fair-Invite.jpg
END:VEVENT
BEGIN:VEVENT
DTSTART;VALUE=DATE:20201209
DTEND;VALUE=DATE:20201210
DTSTAMP:20260424T012538
CREATED:20201116T042407Z
LAST-MODIFIED:20241105T152705Z
UID:2811-1607472000-1607558399@www.themagicofchristmas.org
SUMMARY:2020 GlobalTV Morning of Giving
DESCRIPTION:GlobalTV is promoting the Magic of Christmas during the month of December and will feature the charity on Wednesday\, December 9th during the morning show\, lunch hour and evening news. \n \nDonate here.
URL:https://www.themagicofchristmas.org/event/globaltv-morning-of-giving/
LOCATION:Alberta
CATEGORIES:Fundraising
END:VEVENT
BEGIN:VEVENT
DTSTART;VALUE=DATE:20201116
DTEND;VALUE=DATE:20201221
DTSTAMP:20260424T012538
CREATED:20201116T041905Z
LAST-MODIFIED:20201116T041905Z
UID:2808-1605484800-1608508799@www.themagicofchristmas.org
SUMMARY:Charity Gingerbread Competition & Display
DESCRIPTION:3rd Annual\nDeerfoot Inn & Casino Charity Gingerbread Competition & Display \nNovember 16 – December 20\, 2020 \nPut your culinary team to the test!\nBuild a gingerbread house for charity & a Chance to win $1\,000\n(All proceeds from voting to be donated to ‘The Magic of Christmas’) \nGingerbread house with the most votes Win $1\,000 Cash
URL:https://www.themagicofchristmas.org/event/charity-gingerbread-competition-display/
LOCATION:Deerfoot Inn & Casino\, 1000\, 11500 - 35 Street SE\, Calgary\, AB\, Canada
CATEGORIES:Fundraising
END:VEVENT
END:VCALENDAR