BEGIN:VCALENDAR
VERSION:2.0
PRODID:-//The Magic of Christmas - ECPv6.15.12.2//NONSGML v1.0//EN
CALSCALE:GREGORIAN
METHOD:PUBLISH
X-WR-CALNAME:The Magic of Christmas
X-ORIGINAL-URL:https://www.themagicofchristmas.org
X-WR-CALDESC:Events for The Magic of Christmas
REFRESH-INTERVAL;VALUE=DURATION:PT1H
X-Robots-Tag:noindex
X-PUBLISHED-TTL:PT1H
BEGIN:VTIMEZONE
TZID:America/Denver
BEGIN:DAYLIGHT
TZOFFSETFROM:-0700
TZOFFSETTO:-0600
TZNAME:MDT
DTSTART:20210314T090000
END:DAYLIGHT
BEGIN:STANDARD
TZOFFSETFROM:-0600
TZOFFSETTO:-0700
TZNAME:MST
DTSTART:20211107T080000
END:STANDARD
BEGIN:DAYLIGHT
TZOFFSETFROM:-0700
TZOFFSETTO:-0600
TZNAME:MDT
DTSTART:20220313T090000
END:DAYLIGHT
BEGIN:STANDARD
TZOFFSETFROM:-0600
TZOFFSETTO:-0700
TZNAME:MST
DTSTART:20221106T080000
END:STANDARD
BEGIN:DAYLIGHT
TZOFFSETFROM:-0700
TZOFFSETTO:-0600
TZNAME:MDT
DTSTART:20230312T090000
END:DAYLIGHT
BEGIN:STANDARD
TZOFFSETFROM:-0600
TZOFFSETTO:-0700
TZNAME:MST
DTSTART:20231105T080000
END:STANDARD
BEGIN:DAYLIGHT
TZOFFSETFROM:-0700
TZOFFSETTO:-0600
TZNAME:MDT
DTSTART:20240310T090000
END:DAYLIGHT
BEGIN:STANDARD
TZOFFSETFROM:-0600
TZOFFSETTO:-0700
TZNAME:MST
DTSTART:20241103T080000
END:STANDARD
BEGIN:DAYLIGHT
TZOFFSETFROM:-0700
TZOFFSETTO:-0600
TZNAME:MDT
DTSTART:20250309T090000
END:DAYLIGHT
BEGIN:STANDARD
TZOFFSETFROM:-0600
TZOFFSETTO:-0700
TZNAME:MST
DTSTART:20251102T080000
END:STANDARD
BEGIN:DAYLIGHT
TZOFFSETFROM:-0700
TZOFFSETTO:-0600
TZNAME:MDT
DTSTART:20260308T090000
END:DAYLIGHT
BEGIN:STANDARD
TZOFFSETFROM:-0600
TZOFFSETTO:-0700
TZNAME:MST
DTSTART:20261101T080000
END:STANDARD
END:VTIMEZONE
BEGIN:VEVENT
DTSTART;TZID=America/Denver:20251119T190000
DTEND;TZID=America/Denver:20251119T210000
DTSTAMP:20260423T180416
CREATED:20251112T210440Z
LAST-MODIFIED:20251112T210440Z
UID:4612-1763578800-1763586000@www.themagicofchristmas.org
SUMMARY:Costume Try-on - SANTA PARTIES ONLY
DESCRIPTION:This try-on is for Santa and elves who are scheduled for SANTA PARTIES ONLY (Since we have some parties starting Nov 22nd!) \nImportant: You must receive an email notification from us letting you know that you’ve been scheduled for a Santa Party shift before attending this event. \nClick here to learn more about our volunteer opportunities. \nCostume fitting Dates\n\nView all the costume fitting dates we currently have available.
URL:https://www.themagicofchristmas.org/event/costume-try-on-santa-parties-only/
LOCATION:Magic of Christmas Warehouse\, Bay #32\, 4216 54 Ave SE\, Calgary\, Alberta\, T2C 2E3\, Canada
CATEGORIES:Elf Costume Tryon,Santa Costume Tryon,Santa Parties
ATTACH;FMTTYPE=image/jpeg:https://themagicofchristmas.org/wp-content/uploads/2018/11/Santa-Elf.jpg
END:VEVENT
BEGIN:VEVENT
DTSTART;TZID=America/Denver:20231104T130000
DTEND;TZID=America/Denver:20231104T140000
DTSTAMP:20260423T180416
CREATED:20231015T041218Z
LAST-MODIFIED:20231026T003537Z
UID:3890-1699102800-1699106400@www.themagicofchristmas.org
SUMMARY:Santa party info session
DESCRIPTION:Did you know that organizations can “rent” a Santa and Elves to come to their Christmas Party? For years\, this has been a great fundraising opportunity for us. We are looking for elves and Santa’s who can volunteer from the beginning of November to mid-December to attend cooperate and community Christmas parties to spread some magic!   \nIf this sounds like something you are interested in\, please contact Courtney at volunteer@themagicofchristmas.org! 
URL:https://www.themagicofchristmas.org/event/santa-party-info-session/
LOCATION:Magic of Christmas Warehouse\, Bay #32\, 4216 54 Ave SE\, Calgary\, Alberta\, T2C 2E3\, Canada
CATEGORIES:Santa Parties,Training
END:VEVENT
BEGIN:VEVENT
DTSTART;TZID=America/Denver:20221105T130000
DTEND;TZID=America/Denver:20221105T140000
DTSTAMP:20260423T180416
CREATED:20220924T131127Z
LAST-MODIFIED:20221009T212124Z
UID:3460-1667653200-1667656800@www.themagicofchristmas.org
SUMMARY:Party Elf & Party Santa Orientation Day
DESCRIPTION:Party Santa’s and Party Elves attend various community and cooperate Christmas parties throughout November and December. We’ve prepared an Orientation for all Party Santa’s and Elves on important information you need to know in order to carry out your elfing duties at these parties.  \nTime: 1-2pm
URL:https://www.themagicofchristmas.org/event/party-elf-party-santa-orientation-day/
LOCATION:Magic of Christmas Warehouse\, Bay #32\, 4216 54 Ave SE\, Calgary\, Alberta\, T2C 2E3\, Canada
CATEGORIES:Santa Parties
ORGANIZER;CN="Volunteer Coordinator":MAILTO:volunteer@themagicofchristmas.org
END:VEVENT
END:VCALENDAR