BEGIN:VCALENDAR
VERSION:2.0
PRODID:-//The Magic of Christmas - ECPv6.15.12.2//NONSGML v1.0//EN
CALSCALE:GREGORIAN
METHOD:PUBLISH
X-WR-CALNAME:The Magic of Christmas
X-ORIGINAL-URL:https://www.themagicofchristmas.org
X-WR-CALDESC:Events for The Magic of Christmas
REFRESH-INTERVAL;VALUE=DURATION:PT1H
X-Robots-Tag:noindex
X-PUBLISHED-TTL:PT1H
BEGIN:VTIMEZONE
TZID:America/Denver
BEGIN:DAYLIGHT
TZOFFSETFROM:-0700
TZOFFSETTO:-0600
TZNAME:MDT
DTSTART:20220313T090000
END:DAYLIGHT
BEGIN:STANDARD
TZOFFSETFROM:-0600
TZOFFSETTO:-0700
TZNAME:MST
DTSTART:20221106T080000
END:STANDARD
BEGIN:DAYLIGHT
TZOFFSETFROM:-0700
TZOFFSETTO:-0600
TZNAME:MDT
DTSTART:20230312T090000
END:DAYLIGHT
BEGIN:STANDARD
TZOFFSETFROM:-0600
TZOFFSETTO:-0700
TZNAME:MST
DTSTART:20231105T080000
END:STANDARD
BEGIN:DAYLIGHT
TZOFFSETFROM:-0700
TZOFFSETTO:-0600
TZNAME:MDT
DTSTART:20240310T090000
END:DAYLIGHT
BEGIN:STANDARD
TZOFFSETFROM:-0600
TZOFFSETTO:-0700
TZNAME:MST
DTSTART:20241103T080000
END:STANDARD
BEGIN:DAYLIGHT
TZOFFSETFROM:-0700
TZOFFSETTO:-0600
TZNAME:MDT
DTSTART:20250309T090000
END:DAYLIGHT
BEGIN:STANDARD
TZOFFSETFROM:-0600
TZOFFSETTO:-0700
TZNAME:MST
DTSTART:20251102T080000
END:STANDARD
END:VTIMEZONE
BEGIN:VEVENT
DTSTART;TZID=America/Denver:20240915T080000
DTEND;TZID=America/Denver:20240915T170000
DTSTAMP:20260423T222326
CREATED:20240827T013831Z
LAST-MODIFIED:20240910T064047Z
UID:4241-1726387200-1726419600@www.themagicofchristmas.org
SUMMARY:Calgary Motorcycle Toy Run
DESCRIPTION:The Calgary Motorcycle Toy Run in support of The Magic of Christmas is a multi part event that starts at Calgary Harley Davidson\, then making way to The Heritage Centre in Cremona. The Calgary Motorcycle Toy Run holds an annual ride every year on the 3rd Sunday of September. Our day begins at 9:00 am with breakfast (for the first 300 people) and registration; we are excited to announce that this years run will start at Calgary Harley Davidson! Kickstands are up at 12:00 pm and the group will make their way to our end venue The Heritage Center (Big Red Barn)\, in Cremona. Once the participants reach the end venue\, guests can enjoy the live band\, enter the 50/50 and raffle draws\, bid on the multitude of auction items\, with a late lunch being served 3:00 pm. \nThe cost of this event is a new unwrapped toy or a minimum $20 donation. All proceeds go to The Magic of Christmas!
URL:https://www.themagicofchristmas.org/event/calgary-motorcycle-toy-run/
CATEGORIES:Toy Run
ORGANIZER;CN="Cheryl Quaife":MAILTO:choppergirlcq@shaw.ca
END:VEVENT
BEGIN:VEVENT
DTSTART;TZID=America/Denver:20230917T090000
DTEND;TZID=America/Denver:20230917T160000
DTSTAMP:20260423T222326
CREATED:20230612T141332Z
LAST-MODIFIED:20230621T165425Z
UID:3743-1694941200-1694966400@www.themagicofchristmas.org
SUMMARY:2023 Calgary Motorcycle Toy Run
DESCRIPTION:Click to visit Calgary Motorcycle Toy Run Site\nThe Calgary Motorcycle Toy Run has chosen to support The Magic of Christmas as the main charity to benefit from the funds raised and toys donated for 2023! \nEveryone is welcome. Sept 17 @ Century Downs Casino parking lot\, breakfast will be put on by the Lions Club between 9-11am\, the show and \nshine is 9-11 am. Kickstands  are up @ noon sharp!! We head to Cremona to the Red Barn where there will be LIVE entertainment\, we will also have some dinner with a live and silent auction\, can’t forget our awesome door prizes and 50/50!. \nStarting Venue:\nCentury Downs Racetrack and Casino \n260 Century Downs Way\, Balzac Alberta (Google Map) \n\n\n\n\n\n\n\n\nEnding Venue:\nThe Heritage Centre by Mountain View Events \n4148 – AB Highway 580 Mountain View County\, AB T0M 0R0  (Google Map) \n\n\n\n\n\nCost is a NEW UN-WRAPPED toy for a child age newborn to 18yrs or a minimum $20.00 donation.  Cash donations are always welcome. \nLive music at both locations/Breakfast/Dinner/50-50/Live and silent auctions/and BIKES!\nAll for the low cost of a new unwrapped toy\, or minimum $20.00 donation. \nFor more information please call Cheryl @ (403) 870-3024
URL:https://www.themagicofchristmas.org/event/2023-calgary-motorcycle-toy-run/
LOCATION:Century Downs Racetrack and Casino\, 260 Century Downs Way\, Balzac\, Alberta\, Canada
CATEGORIES:Fundraising,Toy Run
ATTACH;FMTTYPE=image/png:https://themagicofchristmas.org/wp-content/uploads/2023/06/CTRLogoFinal1.png
ORGANIZER;CN="Cheryl Quaife":MAILTO:choppergirlcq@shaw.ca
END:VEVENT
END:VCALENDAR