BEGIN:VCALENDAR
VERSION:2.0
PRODID:-//The Magic of Christmas - ECPv6.15.12.2//NONSGML v1.0//EN
CALSCALE:GREGORIAN
METHOD:PUBLISH
X-ORIGINAL-URL:https://www.themagicofchristmas.org
X-WR-CALDESC:Events for The Magic of Christmas
REFRESH-INTERVAL;VALUE=DURATION:PT1H
X-Robots-Tag:noindex
X-PUBLISHED-TTL:PT1H
BEGIN:VTIMEZONE
TZID:America/Denver
BEGIN:DAYLIGHT
TZOFFSETFROM:-0700
TZOFFSETTO:-0600
TZNAME:MDT
DTSTART:20190310T090000
END:DAYLIGHT
BEGIN:STANDARD
TZOFFSETFROM:-0600
TZOFFSETTO:-0700
TZNAME:MST
DTSTART:20191103T080000
END:STANDARD
BEGIN:DAYLIGHT
TZOFFSETFROM:-0700
TZOFFSETTO:-0600
TZNAME:MDT
DTSTART:20200308T090000
END:DAYLIGHT
BEGIN:STANDARD
TZOFFSETFROM:-0600
TZOFFSETTO:-0700
TZNAME:MST
DTSTART:20201101T080000
END:STANDARD
BEGIN:DAYLIGHT
TZOFFSETFROM:-0700
TZOFFSETTO:-0600
TZNAME:MDT
DTSTART:20210314T090000
END:DAYLIGHT
BEGIN:STANDARD
TZOFFSETFROM:-0600
TZOFFSETTO:-0700
TZNAME:MST
DTSTART:20211107T080000
END:STANDARD
BEGIN:DAYLIGHT
TZOFFSETFROM:-0700
TZOFFSETTO:-0600
TZNAME:MDT
DTSTART:20220313T090000
END:DAYLIGHT
BEGIN:STANDARD
TZOFFSETFROM:-0600
TZOFFSETTO:-0700
TZNAME:MST
DTSTART:20221106T080000
END:STANDARD
BEGIN:DAYLIGHT
TZOFFSETFROM:-0700
TZOFFSETTO:-0600
TZNAME:MDT
DTSTART:20230312T090000
END:DAYLIGHT
BEGIN:STANDARD
TZOFFSETFROM:-0600
TZOFFSETTO:-0700
TZNAME:MST
DTSTART:20231105T080000
END:STANDARD
BEGIN:DAYLIGHT
TZOFFSETFROM:-0700
TZOFFSETTO:-0600
TZNAME:MDT
DTSTART:20240310T090000
END:DAYLIGHT
BEGIN:STANDARD
TZOFFSETFROM:-0600
TZOFFSETTO:-0700
TZNAME:MST
DTSTART:20241103T080000
END:STANDARD
BEGIN:DAYLIGHT
TZOFFSETFROM:-0700
TZOFFSETTO:-0600
TZNAME:MDT
DTSTART:20250309T090000
END:DAYLIGHT
BEGIN:STANDARD
TZOFFSETFROM:-0600
TZOFFSETTO:-0700
TZNAME:MST
DTSTART:20251102T080000
END:STANDARD
BEGIN:DAYLIGHT
TZOFFSETFROM:-0700
TZOFFSETTO:-0600
TZNAME:MDT
DTSTART:20260308T090000
END:DAYLIGHT
BEGIN:STANDARD
TZOFFSETFROM:-0600
TZOFFSETTO:-0700
TZNAME:MST
DTSTART:20261101T080000
END:STANDARD
END:VTIMEZONE
BEGIN:VEVENT
DTSTART;TZID=America/Denver:20251215T183000
DTEND;TZID=America/Denver:20251215T200000
DTSTAMP:20260423T181019
CREATED:20251126T025301Z
LAST-MODIFIED:20251126T061522Z
UID:4677-1765823400-1765828800@www.themagicofchristmas.org
SUMMARY:CEO Training - 2025
DESCRIPTION:Event Details\nCEOs (Chief Elf Onboard) are very important to the success of our program \nWe have an online training scheduled.  All CEOs will receive an invite to the training and a recording will be available afterwards. \nIf you’re volunteering as a CEO\, you’ll learn how we’re doing things this year to keep everyone safe this year. \n 
URL:https://www.themagicofchristmas.org/event/ceo-training-2025/
LOCATION:Online
CATEGORIES:CEO Training,Training
ORGANIZER;CN="Volunteer Coordinator":MAILTO:volunteer@themagicofchristmas.org
END:VEVENT
BEGIN:VEVENT
DTSTART;TZID=America/Denver:20251130T110000
DTEND;TZID=America/Denver:20251130T130000
DTSTAMP:20260423T181019
CREATED:20250925T195357Z
LAST-MODIFIED:20251115T200604Z
UID:4573-1764500400-1764507600@www.themagicofchristmas.org
SUMMARY:2025 Elf Rally
DESCRIPTION:Each year we plan an information session for our new and returning volunteers. We joyfully call this annual event the Elf Rally. This beloved tradition promises to ignite holiday magic\, while preparing Santas and Elves in-training for their roles in making spirits brighter for over 800 families across Calgary on Christmas Eve. We encourage everyone placed on a bus route\, wanting to do a hospital route or wanting to learn about The Magic of Christmas to join us! \nLooking to volunteer and help make Elf Rally a success? Check out the available opportunities on our website! https://www.themagicofchristmas.org/volunteer-opps/ \nPlease RSVP below so we can plan for how many volunteers are planning to attend! \n﻿
URL:https://www.themagicofchristmas.org/event/2025-elf-rally/
LOCATION:Magic of Christmas Warehouse\, Bay #32\, 4216 54 Ave SE\, Calgary\, Alberta\, T2C 2E3\, Canada
CATEGORIES:Elf Costume Tryon,Training,Volunteers
END:VEVENT
BEGIN:VEVENT
DTSTART;TZID=America/Denver:20241201T110000
DTEND;TZID=America/Denver:20241201T130000
DTSTAMP:20260423T181019
CREATED:20241018T040314Z
LAST-MODIFIED:20241130T194742Z
UID:4349-1733050800-1733058000@www.themagicofchristmas.org
SUMMARY:2024 Elf Rally
DESCRIPTION:Each year we plan an information session for our new and returning volunteers. We joyfully call this annual event the Elf Rally. This beloved tradition promises to ignite holiday magic\, while preparing Santas and Elves in-training for their roles in making spirits brighter for over 800 families across Calgary on Christmas Eve.  \nWe encourage everyone placed on a bus route\, wanting to do a hospital route or wanting to learn about The Magic of Christmas to join us! Want a backstage pass to the North Pole action? Stay tuned for an invitation on our website.   \nLooking to volunteer and help make Elf Rally a success? Check out the available opportunities on our website! https://www.themagicofchristmas.org/volunteer-opps/  \nRSVP\n﻿﻿﻿﻿  \nParking Map
URL:https://www.themagicofchristmas.org/event/2024-elf-rally/
LOCATION:Magic of Christmas Warehouse\, Bay #32\, 4216 54 Ave SE\, Calgary\, Alberta\, T2C 2E3\, Canada
CATEGORIES:Training
END:VEVENT
BEGIN:VEVENT
DTSTART;TZID=America/Denver:20231112T120000
DTEND;TZID=America/Denver:20231112T140000
DTSTAMP:20260423T181019
CREATED:20231015T041846Z
LAST-MODIFIED:20231105T014006Z
UID:3897-1699790400-1699797600@www.themagicofchristmas.org
SUMMARY:Donation box info session
DESCRIPTION:The donation pick-up crew led by Steve is truly a team of unsung heroes who go around the cities during November and December dropping off and picking up donations from over 220+ amazing and generous hosts. Their efforts ensure a healthy donation inventory flow that is pivotal to our warehouse logistics. Want to give them a hand? We have an info session happening at the Magic of Christmas new warehouse on November 12th at 1pm.   \nWe invite Calgary’s working force to donate gifts from the comfort of their workspaces. Simply request one or more donation boxes for your organization anytime between November and Christmas Eve. Besides knowing that your gifts will go toward a family in need\, this can make for a fun and meaningful initiative for you and your colleagues. Request a donation box today! 
URL:https://www.themagicofchristmas.org/event/donation-box-info-session/
LOCATION:Magic of Christmas Warehouse\, Bay #32\, 4216 54 Ave SE\, Calgary\, Alberta\, T2C 2E3\, Canada
CATEGORIES:Donation Boxes,Training
END:VEVENT
BEGIN:VEVENT
DTSTART;TZID=America/Denver:20231104T130000
DTEND;TZID=America/Denver:20231104T140000
DTSTAMP:20260423T181019
CREATED:20231015T041218Z
LAST-MODIFIED:20231026T003537Z
UID:3890-1699102800-1699106400@www.themagicofchristmas.org
SUMMARY:Santa party info session
DESCRIPTION:Did you know that organizations can “rent” a Santa and Elves to come to their Christmas Party? For years\, this has been a great fundraising opportunity for us. We are looking for elves and Santa’s who can volunteer from the beginning of November to mid-December to attend cooperate and community Christmas parties to spread some magic!   \nIf this sounds like something you are interested in\, please contact Courtney at volunteer@themagicofchristmas.org! 
URL:https://www.themagicofchristmas.org/event/santa-party-info-session/
LOCATION:Magic of Christmas Warehouse\, Bay #32\, 4216 54 Ave SE\, Calgary\, Alberta\, T2C 2E3\, Canada
CATEGORIES:Santa Parties,Training
END:VEVENT
BEGIN:VEVENT
DTSTART;TZID=America/Denver:20231101T190000
DTEND;TZID=America/Denver:20231101T203000
DTSTAMP:20260423T181019
CREATED:20231026T003700Z
LAST-MODIFIED:20231026T003700Z
UID:3938-1698865200-1698870600@www.themagicofchristmas.org
SUMMARY:Costume Team Info Session
DESCRIPTION:We all look elfabulous and Santastic thanks to the Costume Team!  \nGreat news!!! We are bringing back in-person costume try-on. We’ve heard you and are hosting multiple try-on sessions to accommodate different scheduling needs. Therefore\, we are looking for many volunteers to be in the costume room. Duties include helping coordinate try-on days\, ensuring every elf and Santa has a fitting costume assigned to them\, and last but not least\, adding the magic touch to the costumes. Guess what? Sewing experience is not necessary! If you are into making magic happen in a busy environment\, please contact Courtney at volunteer@themagicofchristmas.org 
URL:https://www.themagicofchristmas.org/event/costume-team-info-session/
LOCATION:Magic of Christmas Warehouse\, Bay #32\, 4216 54 Ave SE\, Calgary\, Alberta\, T2C 2E3\, Canada
CATEGORIES:Costumes,Training
END:VEVENT
BEGIN:VEVENT
DTSTART;TZID=America/Denver:20231101T190000
DTEND;TZID=America/Denver:20231101T200000
DTSTAMP:20260423T181019
CREATED:20231026T034032Z
LAST-MODIFIED:20231026T034032Z
UID:3940-1698865200-1698868800@www.themagicofchristmas.org
SUMMARY:Costume Info Session - Volunteers
DESCRIPTION:Interested in coming to help out as a volunteer in the costume room? \nJoin us for an information session and we’ll share how we get everyone ready for the big day.  We have a lot of Santas and elves we have to get ready on Christmas Eve and we can really use the help of some great volunteers to make everyone look good.
URL:https://www.themagicofchristmas.org/event/costume-info-session-volunteers/
LOCATION:Magic of Christmas Warehouse\, Bay #32\, 4216 54 Ave SE\, Calgary\, Alberta\, T2C 2E3\, Canada
CATEGORIES:Costumes,Training,Volunteers
END:VEVENT
BEGIN:VEVENT
DTSTART;TZID=America/Denver:20231030T190000
DTEND;TZID=America/Denver:20231030T200000
DTSTAMP:20260423T181019
CREATED:20231015T041620Z
LAST-MODIFIED:20231026T003515Z
UID:3894-1698692400-1698696000@www.themagicofchristmas.org
SUMMARY:Virtual Referral Team orientation
DESCRIPTION:Have you ever wondered how our families get selected?   \nFamilies get referred to us by vetted organizations including social and government agencies\, teachers\, social workers\, police officers\, AHS\, and more. After requests are received\, a small but mighty team of very dedicated and patient volunteers calls each of the families to briefly learn about their stories\, understand their needs and validate their eligibility. If you are a good listener\, detail-oriented and interested\, this orientation is for you! Please contact Shani at ssheppard@themagicofchristmas.org. \nThis orientation is going to be virtual. You will receive a Teams link via email once you register with Shani.
URL:https://www.themagicofchristmas.org/event/referral-team-orientation/
CATEGORIES:Referrals,Training
END:VEVENT
BEGIN:VEVENT
DTSTART;TZID=America/Denver:20231028T110000
DTEND;TZID=America/Denver:20231028T130000
DTSTAMP:20260423T181019
CREATED:20231015T041433Z
LAST-MODIFIED:20231026T003356Z
UID:3892-1698490800-1698498000@www.themagicofchristmas.org
SUMMARY:Warehouse lead orientation/info session
DESCRIPTION:We are looking for a Warehouse Shift Lead!  \nEvery year\, we arrange group volunteering at the Santa Workshop. This often involves employees from a company\, members of a community group\, students from a school or a sport group with a shared interest in making a difference in Calgary. We are looking for volunteers to help lead these volunteer groups and to create a well-functioning and welcoming warehouse environment. Your role is crucial to leaving a lasting impression on these community members who may eventually become our donors and corporate sponsors. If this position interests you\, don’t be shy\, we need you! Give Courtney at volunteer@themagicofchristmas.org a shout! 
URL:https://www.themagicofchristmas.org/event/warehouse-lead-orientation-info-session/
LOCATION:Magic of Christmas Warehouse\, Bay #32\, 4216 54 Ave SE\, Calgary\, Alberta\, T2C 2E3\, Canada
CATEGORIES:Training,Volunteers
END:VEVENT
BEGIN:VEVENT
DTSTART;TZID=America/Denver:20221203T133000
DTEND;TZID=America/Denver:20221203T160000
DTSTAMP:20260423T181019
CREATED:20220913T000939Z
LAST-MODIFIED:20221125T213440Z
UID:3433-1670074200-1670083200@www.themagicofchristmas.org
SUMMARY:Elf Rally - 2022
DESCRIPTION:Event Details\nWe’re having our Elf Rally in-person again for 2022! \nThe Elf rally is During this rally\, the executive will present some background history into the Magic of Christmas Charity\, along with important information you need to know in order to carry out your elfing duties on Christmas Eve. \nYou will also get a sense of the vast contribution you will make to deliver Christmas spirit into the homes and hearts of those who need it most and invite everyone to believe (again!) in the true spirit and The Magic of Christmas. \nThe rally will be held at The Magic of Christmas warehouse at #1\, 4416 – 5 Street NE​ \nPlease bring a gift card!  Every gift card gets your name in a draw for door prizes! \nPlease RSVP to let us know you’re coming:\n﻿﻿﻿﻿﻿﻿﻿﻿
URL:https://www.themagicofchristmas.org/event/elf-rally-2022/
LOCATION:Magic of Christmas Warehouse\, Bay #32\, 4216 54 Ave SE\, Calgary\, Alberta\, T2C 2E3\, Canada
CATEGORIES:Training
END:VEVENT
BEGIN:VEVENT
DTSTART;TZID=America/Denver:20221112T110000
DTEND;TZID=America/Denver:20221112T120000
DTSTAMP:20260423T181019
CREATED:20221020T021816Z
LAST-MODIFIED:20221020T021908Z
UID:3525-1668250800-1668254400@www.themagicofchristmas.org
SUMMARY:Donation Box Elf Orientation
DESCRIPTION:Details to come
URL:https://www.themagicofchristmas.org/event/donation-box-elf-orientation/
LOCATION:Magic of Christmas Warehouse\, Bay #32\, 4216 54 Ave SE\, Calgary\, Alberta\, T2C 2E3\, Canada
CATEGORIES:Donation Boxes,Training
END:VEVENT
BEGIN:VEVENT
DTSTART;TZID=America/Denver:20201208T180000
DTEND;TZID=America/Denver:20201208T193000
DTSTAMP:20260423T181019
CREATED:20201201T205802Z
LAST-MODIFIED:20201209T153853Z
UID:2864-1607450400-1607455800@www.themagicofchristmas.org
SUMMARY:CEO Training Day 2
DESCRIPTION:Recorded Event\nTo view a recording of the event\, watch on our YouTube channel here. \nEvent Details\nCEOs (Chief Elf Onboard) are very important to the success of our program \nWe have 2 online training days planned. \nIf you’re volunteering as a CEO\, you’ll learn how we’re doing things this year to keep everyone safe this year.
URL:https://www.themagicofchristmas.org/event/ceo-training-day-2-2/
CATEGORIES:CEO Training
END:VEVENT
BEGIN:VEVENT
DTSTART;TZID=America/Denver:20201205T150000
DTEND;TZID=America/Denver:20201205T160000
DTSTAMP:20260423T181019
CREATED:20201201T205428Z
LAST-MODIFIED:20201209T153741Z
UID:2852-1607180400-1607184000@www.themagicofchristmas.org
SUMMARY:CEO Training Day 1
DESCRIPTION:Recorded Event\nTo view a recording of the event\, watch on our YouTube channel here. \nEvent Details\nCEOs (Chief Elf Onboard) are very important to the success of our program \nWe have 2 online training days planned. \nIf you’re volunteering as a CEO\, you’ll learn how we’re doing things this year to keep everyone safe this year. \n 
URL:https://www.themagicofchristmas.org/event/ceo-training-day-1-2/
CATEGORIES:CEO Training
END:VEVENT
BEGIN:VEVENT
DTSTART;TZID=America/Denver:20201205T130000
DTEND;TZID=America/Denver:20201205T150000
DTSTAMP:20260423T181019
CREATED:20201025T081627Z
LAST-MODIFIED:20201207T205616Z
UID:2722-1607173200-1607180400@www.themagicofchristmas.org
SUMMARY:2020 Elf Rally
DESCRIPTION:Recorded Event\nTo view a recording of the event\, watch on our YouTube channel here. \nEvent Details\nTo ensure we are keeping all our elves safe for 2020\, we’ll be hosting the 2020 Elf Rally on-line. \nDuring this rally\, the executive will present some background history into the Magic of Christmas Charity\, along with important information you need to know in order to carry out your elfing duties on Christmas Eve. \nYou will also get a sense of the vast contribution you will make at Christmas to bring happiness and joy to many families in need! \nWe’ll be using a Teams Live Event for this year’s rally. \nTo join the event:  Click the link here.
URL:https://www.themagicofchristmas.org/event/2020-elf-rally/
CATEGORIES:CEO Training,Santa Training,Training,Volunteers
END:VEVENT
BEGIN:VEVENT
DTSTART;TZID=America/Denver:20201115T130000
DTEND;TZID=America/Denver:20201115T140000
DTSTAMP:20260423T181019
CREATED:20201108T201946Z
LAST-MODIFIED:20201108T201946Z
UID:2753-1605445200-1605448800@www.themagicofchristmas.org
SUMMARY:Donation Box Drop Off / Pick Up Training
DESCRIPTION:We are hosting a virtual training session on November 15th at 1 pm to talk about COVID-19 protocols and a few updates to the Donation Box program.  To help with Donation Box drop offs\, please sign up here: http://themagicofchristmas.org/volunteer-registration/
URL:https://www.themagicofchristmas.org/event/donation-box-drop-off-pick-up-training/
CATEGORIES:Donation Boxes,Training,Volunteers
ORGANIZER;CN="Volunteer Coordinator":MAILTO:volunteer@themagicofchristmas.org
END:VEVENT
END:VCALENDAR