BEGIN:VCALENDAR
VERSION:2.0
PRODID:-//The Magic of Christmas - ECPv6.15.12.2//NONSGML v1.0//EN
CALSCALE:GREGORIAN
METHOD:PUBLISH
X-WR-CALNAME:The Magic of Christmas
X-ORIGINAL-URL:https://www.themagicofchristmas.org
X-WR-CALDESC:Events for The Magic of Christmas
REFRESH-INTERVAL;VALUE=DURATION:PT1H
X-Robots-Tag:noindex
X-PUBLISHED-TTL:PT1H
BEGIN:VTIMEZONE
TZID:America/Denver
BEGIN:DAYLIGHT
TZOFFSETFROM:-0700
TZOFFSETTO:-0600
TZNAME:MDT
DTSTART:20240310T090000
END:DAYLIGHT
BEGIN:STANDARD
TZOFFSETFROM:-0600
TZOFFSETTO:-0700
TZNAME:MST
DTSTART:20241103T080000
END:STANDARD
BEGIN:DAYLIGHT
TZOFFSETFROM:-0700
TZOFFSETTO:-0600
TZNAME:MDT
DTSTART:20250309T090000
END:DAYLIGHT
BEGIN:STANDARD
TZOFFSETFROM:-0600
TZOFFSETTO:-0700
TZNAME:MST
DTSTART:20251102T080000
END:STANDARD
BEGIN:DAYLIGHT
TZOFFSETFROM:-0700
TZOFFSETTO:-0600
TZNAME:MDT
DTSTART:20260308T090000
END:DAYLIGHT
BEGIN:STANDARD
TZOFFSETFROM:-0600
TZOFFSETTO:-0700
TZNAME:MST
DTSTART:20261101T080000
END:STANDARD
BEGIN:DAYLIGHT
TZOFFSETFROM:-0700
TZOFFSETTO:-0600
TZNAME:MDT
DTSTART:20270314T090000
END:DAYLIGHT
BEGIN:STANDARD
TZOFFSETFROM:-0600
TZOFFSETTO:-0700
TZNAME:MST
DTSTART:20271107T080000
END:STANDARD
END:VTIMEZONE
BEGIN:VEVENT
DTSTART;VALUE=DATE:20251127
DTEND;VALUE=DATE:20260104
DTSTAMP:20260423T162043
CREATED:20251109T010037Z
LAST-MODIFIED:20251109T010325Z
UID:4604-1764201600-1767484799@www.themagicofchristmas.org
SUMMARY:Holiday Wonder
DESCRIPTION:Holiday Wonder has multiple dates from November 27th\, 2025 through January 3rd\, 2026 at the Calgary BMO Centre. \nPurchase your tickets on their website today: https://www.showpass.com/holiday-wonder-calgary-ab/ \nMore details to follow on how they are supporting The Magic of Christmas. \n 
URL:https://www.themagicofchristmas.org/event/holiday-wonder/
LOCATION:Calgary BMO Centre\, 1912 Flores Ladue Parade SE\, Calgary\, AB\, T2G 2W1\, Canada
END:VEVENT
BEGIN:VEVENT
DTSTART;VALUE=DATE:20261224
DTEND;VALUE=DATE:20261225
DTSTAMP:20260423T162043
CREATED:20260416T011420Z
LAST-MODIFIED:20260416T011420Z
UID:4890-1798070400-1798156799@www.themagicofchristmas.org
SUMMARY:Christmas Eve 2026
DESCRIPTION:
URL:https://www.themagicofchristmas.org/event/christmas-eve-2026/
END:VEVENT
END:VCALENDAR