BEGIN:VCALENDAR
VERSION:2.0
PRODID:-//The Magic of Christmas - ECPv6.15.12.2//NONSGML v1.0//EN
CALSCALE:GREGORIAN
METHOD:PUBLISH
X-ORIGINAL-URL:https://www.themagicofchristmas.org
X-WR-CALDESC:Events for The Magic of Christmas
REFRESH-INTERVAL;VALUE=DURATION:PT1H
X-Robots-Tag:noindex
X-PUBLISHED-TTL:PT1H
BEGIN:VTIMEZONE
TZID:America/Denver
BEGIN:DAYLIGHT
TZOFFSETFROM:-0700
TZOFFSETTO:-0600
TZNAME:MDT
DTSTART:20240310T090000
END:DAYLIGHT
BEGIN:STANDARD
TZOFFSETFROM:-0600
TZOFFSETTO:-0700
TZNAME:MST
DTSTART:20241103T080000
END:STANDARD
BEGIN:DAYLIGHT
TZOFFSETFROM:-0700
TZOFFSETTO:-0600
TZNAME:MDT
DTSTART:20250309T090000
END:DAYLIGHT
BEGIN:STANDARD
TZOFFSETFROM:-0600
TZOFFSETTO:-0700
TZNAME:MST
DTSTART:20251102T080000
END:STANDARD
BEGIN:DAYLIGHT
TZOFFSETFROM:-0700
TZOFFSETTO:-0600
TZNAME:MDT
DTSTART:20260308T090000
END:DAYLIGHT
BEGIN:STANDARD
TZOFFSETFROM:-0600
TZOFFSETTO:-0700
TZNAME:MST
DTSTART:20261101T080000
END:STANDARD
BEGIN:DAYLIGHT
TZOFFSETFROM:-0700
TZOFFSETTO:-0600
TZNAME:MDT
DTSTART:20270314T090000
END:DAYLIGHT
BEGIN:STANDARD
TZOFFSETFROM:-0600
TZOFFSETTO:-0700
TZNAME:MST
DTSTART:20271107T080000
END:STANDARD
END:VTIMEZONE
BEGIN:VEVENT
DTSTART;VALUE=DATE:20251127
DTEND;VALUE=DATE:20260104
DTSTAMP:20260423T174215
CREATED:20251109T010037Z
LAST-MODIFIED:20251109T010325Z
UID:4604-1764201600-1767484799@www.themagicofchristmas.org
SUMMARY:Holiday Wonder
DESCRIPTION:Holiday Wonder has multiple dates from November 27th\, 2025 through January 3rd\, 2026 at the Calgary BMO Centre. \nPurchase your tickets on their website today: https://www.showpass.com/holiday-wonder-calgary-ab/ \nMore details to follow on how they are supporting The Magic of Christmas. \n 
URL:https://www.themagicofchristmas.org/event/holiday-wonder/
LOCATION:Calgary BMO Centre\, 1912 Flores Ladue Parade SE\, Calgary\, AB\, T2G 2W1\, Canada
END:VEVENT
BEGIN:VEVENT
DTSTART;TZID=America/Denver:20251203T070000
DTEND;TZID=America/Denver:20251203T090000
DTSTAMP:20260423T174215
CREATED:20250925T195050Z
LAST-MODIFIED:20251121T082351Z
UID:4569-1764745200-1764752400@www.themagicofchristmas.org
SUMMARY:2025 Global Calgary Cookie Sale
DESCRIPTION:Come get your Christmas started with cookies baked by Calgary’s best chefs! \nJoin us for Global Calgary’s 2025 Cookie Sale in support of The Magic of Christmas\n \nHow does it work?\nBuy a punch card for $25 and get 13 cookies from 50+ Calgary chefs situated around the ATCO Blue Flame Kitchen. (See a list of the Chefs and donors who made last year’s sale a great success!) \nAll the proceeds go to The Magic of Christmas \nHere are Some pics from the 2022 event
URL:https://www.themagicofchristmas.org/event/2025-global-calgary-cookie-sale/
LOCATION:ATCO Blue Flame Kitchen\, 5302 Forand St SW\, Calgary\, Alberta\, T3E 8B4\, Canada
CATEGORIES:Cookie Sale,Global
END:VEVENT
BEGIN:VEVENT
DTSTART;TZID=America/Denver:20251205T180000
DTEND;TZID=America/Denver:20251205T210000
DTSTAMP:20260423T174215
CREATED:20251115T202907Z
LAST-MODIFIED:20251115T203120Z
UID:4622-1764957600-1764968400@www.themagicofchristmas.org
SUMMARY:Coca Cola Holiday Truck at the Magic!
DESCRIPTION:Coca Cola Canada is bringing the Coke Holiday Truck to the Magic of Christmas Warehouse! \nBring a gift or a gift card to help spread some Christmas cheer to families in Calgary \nEvent Highlights:Strike a pose or take a selfie with the Holiday Truck\, Santa and elves. Outdoor Christmas Fun – Join us for a festive winter wonderland experience! Hot Chocolate Station – Warm up with a cup of delicious hot cocoa or other hot beverages. Yard Games – Challenge your friends with Connect 4\, Corn Hole\, and more. Coca-Cola Polar Bear Mascot – A unique photo opportunity with the beloved mascot! Pets Welcome – Bring your furry friends for a jolly good time.\n\nAdditional Perks: Calgary Harley-Davidson – Check out the dazzling Red Harley decked out in Christmas lights and enter their FREE door prize draw.Learn more about the Coca-Cola Kindest Community Initiatives: Celebrate Canada’s Kindest Community this Holiday .\n Admission is free\, and donations are encouraged to support The Magic of Christmas’ mission.\nWe can’t wait to celebrate the magic of the season with you! 
URL:https://www.themagicofchristmas.org/event/coca-cola-holiday-truck-at-the-magic-2/
LOCATION:Magic of Christmas Warehouse\, Bay #32\, 4216 54 Ave SE\, Calgary\, Alberta\, T2C 2E3\, Canada
CATEGORIES:Coke
END:VEVENT
BEGIN:VEVENT
DTSTART;TZID=America/Denver:20251206T100000
DTEND;TZID=America/Denver:20251206T140000
DTSTAMP:20260423T174215
CREATED:20251117T055925Z
LAST-MODIFIED:20251117T055925Z
UID:4630-1765015200-1765029600@www.themagicofchristmas.org
SUMMARY:Costume Try On - #2 - Elves
DESCRIPTION:ELVES ONLY\nIf you’ve received a confirmation for a bus\, hospital or Santa party shift\, you can come to figure out your costume! \nDid you join our growing family of elves and Santas this year? The following costume fittings are for registered and confirmed bus and hospital route volunteers only. Costume fittings take place at our workshop.\nImportant: You must receive an email notification from us letting you know that you’ve been scheduled for a bus or hospital shift before attending one of the following. \nClick here to learn more about our volunteer opportunities. \nCostume fitting Dates\n\nView all the costume fitting dates we currently have available.
URL:https://www.themagicofchristmas.org/event/costume-try-on-2-elves/
LOCATION:Magic of Christmas Warehouse\, Bay #32\, 4216 54 Ave SE\, Calgary\, Alberta\, T2C 2E3\, Canada
CATEGORIES:Costumes,Elf Costume Tryon
ATTACH;FMTTYPE=image/png:https://themagicofchristmas.org/wp-content/uploads/2018/11/Elf.png
END:VEVENT
BEGIN:VEVENT
DTSTART;TZID=America/Denver:20251207T100000
DTEND;TZID=America/Denver:20251207T140000
DTSTAMP:20260423T174215
CREATED:20251117T061003Z
LAST-MODIFIED:20251117T061003Z
UID:4632-1765101600-1765116000@www.themagicofchristmas.org
SUMMARY:Costume Try On - #3 - Santa's Only
DESCRIPTION: SANTAS ONLY\nIf you’ve received a confirmation for a bus\, hospital or Santa party shift\, you can come to figure out your costume! \nDid you join our growing family of elves and Santas this year? The following costume fittings are for registered and confirmed bus and hospital route volunteers only. Costume fittings take place at our workshop.\nImportant: You must receive an email notification from us letting you know that you’ve been scheduled for a bus or hospital shift before attending one of the following. \nClick here to learn more about our volunteer opportunities. \nCostume fitting Dates\n\nView all the costume fitting dates we currently have available.
URL:https://www.themagicofchristmas.org/event/costume-try-on-3-santas-only/
LOCATION:Magic of Christmas Warehouse\, Bay #32\, 4216 54 Ave SE\, Calgary\, Alberta\, T2C 2E3\, Canada
CATEGORIES:Costumes,Santa Costume Tryon
ATTACH;FMTTYPE=image/png:https://themagicofchristmas.org/wp-content/uploads/2018/11/Santa.png
END:VEVENT
BEGIN:VEVENT
DTSTART;TZID=America/Denver:20251209T183000
DTEND;TZID=America/Denver:20251209T203000
DTSTAMP:20260423T174215
CREATED:20251117T061541Z
LAST-MODIFIED:20251117T061541Z
UID:4634-1765305000-1765312200@www.themagicofchristmas.org
SUMMARY:Costume Try On - #4 - Elves
DESCRIPTION: ELVES ONLY\nIf you’ve received a confirmation for a bus\, hospital or Santa party shift\, you can come to figure out your costume! \nDid you join our growing family of elves and Santas this year? The following costume fittings are for registered and confirmed bus and hospital route volunteers only. Costume fittings take place at our workshop.\nImportant: You must receive an email notification from us letting you know that you’ve been scheduled for a bus or hospital shift before attending one of the following. \nClick here to learn more about our volunteer opportunities. \nCostume fitting Dates\n\nView all the costume fitting dates we currently have available.
URL:https://www.themagicofchristmas.org/event/costume-try-on-4-elves/
LOCATION:Magic of Christmas Warehouse\, Bay #32\, 4216 54 Ave SE\, Calgary\, Alberta\, T2C 2E3\, Canada
CATEGORIES:Costumes,Elf Costume Tryon
ATTACH;FMTTYPE=image/png:https://themagicofchristmas.org/wp-content/uploads/2018/11/Elf.png
END:VEVENT
BEGIN:VEVENT
DTSTART;VALUE=DATE:20251210
DTEND;VALUE=DATE:20251211
DTSTAMP:20260423T174215
CREATED:20250925T195202Z
LAST-MODIFIED:20250925T195202Z
UID:4571-1765324800-1765411199@www.themagicofchristmas.org
SUMMARY:2025 Global Morning of Giving
DESCRIPTION:Details to Come
URL:https://www.themagicofchristmas.org/event/2025-global-morning-of-giving/
CATEGORIES:Global
END:VEVENT
BEGIN:VEVENT
DTSTART;TZID=America/Denver:20251210T060000
DTEND;TZID=America/Denver:20251210T090000
DTSTAMP:20260423T174215
CREATED:20251115T204558Z
LAST-MODIFIED:20251121T082235Z
UID:4625-1765346400-1765357200@www.themagicofchristmas.org
SUMMARY:2025 Global Calgary's Morning of Giving
DESCRIPTION:Join Leslie Horton and our donation drive-thru at ATCO Blue Flame Kitchen (5302 Forand St SW) and drop off a new\, unwrapped gift or gift cards for any age (household items\, clothing\, toys\, electronics\, etc.) to help Calgary families in need. \n 
URL:https://www.themagicofchristmas.org/event/2025-global-calgary-morning-of-giving/
LOCATION:ATCO Blue Flame Kitchen\, 5302 Forand St SW\, Calgary\, Alberta\, T3E 8B4\, Canada
CATEGORIES:Global,Morning of Giving
END:VEVENT
BEGIN:VEVENT
DTSTART;TZID=America/Denver:20251210T183000
DTEND;TZID=America/Denver:20251210T203000
DTSTAMP:20260423T174215
CREATED:20251117T062848Z
LAST-MODIFIED:20251117T062848Z
UID:4638-1765391400-1765398600@www.themagicofchristmas.org
SUMMARY:Costume Try On - #5 - Santas
DESCRIPTION: SANTAS ONLY\nIf you’ve received a confirmation for a bus\, hospital or Santa party shift\, you can come to figure out your costume! \nDid you join our growing family of elves and Santas this year? The following costume fittings are for registered and confirmed bus and hospital route volunteers only. Costume fittings take place at our workshop.\nImportant: You must receive an email notification from us letting you know that you’ve been scheduled for a bus or hospital shift before attending one of the following. \nClick here to learn more about our volunteer opportunities. \nCostume fitting Dates\n\nView all the costume fitting dates we currently have available.
URL:https://www.themagicofchristmas.org/event/costume-try-on-5-santas/
LOCATION:Magic of Christmas Warehouse\, Bay #32\, 4216 54 Ave SE\, Calgary\, Alberta\, T2C 2E3\, Canada
CATEGORIES:Costumes,Santa Costume Tryon
ATTACH;FMTTYPE=image/png:https://themagicofchristmas.org/wp-content/uploads/2018/11/Santa.png
END:VEVENT
BEGIN:VEVENT
DTSTART;TZID=America/Denver:20251212T183000
DTEND;TZID=America/Denver:20251212T203000
DTSTAMP:20260423T174215
CREATED:20251117T063035Z
LAST-MODIFIED:20251117T063035Z
UID:4640-1765564200-1765571400@www.themagicofchristmas.org
SUMMARY:Costume Try On - #6 - Santas
DESCRIPTION: SANTAS ONLY\nIf you’ve received a confirmation for a bus\, hospital or Santa party shift\, you can come to figure out your costume! \nDid you join our growing family of elves and Santas this year? The following costume fittings are for registered and confirmed bus and hospital route volunteers only. Costume fittings take place at our workshop.\nImportant: You must receive an email notification from us letting you know that you’ve been scheduled for a bus or hospital shift before attending one of the following. \nClick here to learn more about our volunteer opportunities. \nCostume fitting Dates\n\nView all the costume fitting dates we currently have available.
URL:https://www.themagicofchristmas.org/event/costume-try-on-6-santas/
LOCATION:Magic of Christmas Warehouse\, Bay #32\, 4216 54 Ave SE\, Calgary\, Alberta\, T2C 2E3\, Canada
CATEGORIES:Santa Costume Tryon
ATTACH;FMTTYPE=image/png:https://themagicofchristmas.org/wp-content/uploads/2018/11/Santa.png
END:VEVENT
BEGIN:VEVENT
DTSTART;TZID=America/Denver:20251214T120000
DTEND;TZID=America/Denver:20251214T160000
DTSTAMP:20260423T174215
CREATED:20251117T063259Z
LAST-MODIFIED:20251117T063259Z
UID:4642-1765713600-1765728000@www.themagicofchristmas.org
SUMMARY:Costume Try On - #7 - Elves & Santas
DESCRIPTION: ELVES and SANTAS\nIf you’ve received a confirmation for a bus\, hospital or Santa party shift\, you can come to figure out your costume! \nDid you join our growing family of elves and Santas this year? The following costume fittings are for registered and confirmed bus and hospital route volunteers only. Costume fittings take place at our workshop.\nImportant: You must receive an email notification from us letting you know that you’ve been scheduled for a bus or hospital shift before attending one of the following. \nClick here to learn more about our volunteer opportunities. \nCostume fitting Dates\n\nView all the costume fitting dates we currently have available.
URL:https://www.themagicofchristmas.org/event/costume-try-on-7-elves-santas/
LOCATION:Magic of Christmas Warehouse\, Bay #32\, 4216 54 Ave SE\, Calgary\, Alberta\, T2C 2E3\, Canada
CATEGORIES:Costumes,Elf Costume Tryon,Santa Costume Tryon
ATTACH;FMTTYPE=image/jpeg:https://themagicofchristmas.org/wp-content/uploads/2018/11/Santa-Elf.jpg
END:VEVENT
BEGIN:VEVENT
DTSTART;TZID=America/Denver:20251215T183000
DTEND;TZID=America/Denver:20251215T200000
DTSTAMP:20260423T174215
CREATED:20251126T025301Z
LAST-MODIFIED:20251126T061522Z
UID:4677-1765823400-1765828800@www.themagicofchristmas.org
SUMMARY:CEO Training - 2025
DESCRIPTION:Event Details\nCEOs (Chief Elf Onboard) are very important to the success of our program \nWe have an online training scheduled.  All CEOs will receive an invite to the training and a recording will be available afterwards. \nIf you’re volunteering as a CEO\, you’ll learn how we’re doing things this year to keep everyone safe this year. \n 
URL:https://www.themagicofchristmas.org/event/ceo-training-2025/
LOCATION:Online
CATEGORIES:CEO Training,Training
ORGANIZER;CN="Volunteer Coordinator":MAILTO:volunteer@themagicofchristmas.org
END:VEVENT
BEGIN:VEVENT
DTSTART;TZID=America/Denver:20251217T183000
DTEND;TZID=America/Denver:20251217T210000
DTSTAMP:20260423T174215
CREATED:20251117T063502Z
LAST-MODIFIED:20251117T063502Z
UID:4644-1765996200-1766005200@www.themagicofchristmas.org
SUMMARY:Costume Try On - #8 - Elves & Santas
DESCRIPTION: ELVES and SANTAS\nIf you’ve received a confirmation for a bus\, hospital or Santa party shift\, you can come to figure out your costume! \nDid you join our growing family of elves and Santas this year? The following costume fittings are for registered and confirmed bus and hospital route volunteers only. Costume fittings take place at our workshop.\nImportant: You must receive an email notification from us letting you know that you’ve been scheduled for a bus or hospital shift before attending one of the following. \nClick here to learn more about our volunteer opportunities. \nCostume fitting Dates\n\nView all the costume fitting dates we currently have available.
URL:https://www.themagicofchristmas.org/event/costume-try-on-8-elves-santas/
LOCATION:Magic of Christmas Warehouse\, Bay #32\, 4216 54 Ave SE\, Calgary\, Alberta\, T2C 2E3\, Canada
CATEGORIES:Costumes,Elf Costume Tryon,Santa Costume Tryon
ATTACH;FMTTYPE=image/jpeg:https://themagicofchristmas.org/wp-content/uploads/2018/11/Santa-Elf.jpg
END:VEVENT
BEGIN:VEVENT
DTSTART;TZID=America/Denver:20251220T100000
DTEND;TZID=America/Denver:20251220T140000
DTSTAMP:20260423T174215
CREATED:20251217T205035Z
LAST-MODIFIED:20251217T205035Z
UID:4814-1766224800-1766239200@www.themagicofchristmas.org
SUMMARY:Costume Try On – #9 – Elves & Santas
DESCRIPTION: ELVES and SANTAS\nIf you’ve received a confirmation for a bus\, hospital or Santa party shift\, you can come to figure out your costume! \nDid you join our growing family of elves and Santas this year? The following costume fittings are for registered and confirmed bus and hospital route volunteers only. Costume fittings take place at our workshop.\nImportant: You must receive an email notification from us letting you know that you’ve been scheduled for a bus or hospital shift before attending one of the following. \nClick here to learn more about our volunteer opportunities. \nCostume fitting Dates\n\nView all the costume fitting dates we currently have available.
URL:https://www.themagicofchristmas.org/event/costume-try-on-9-elves-santas/
LOCATION:Magic of Christmas Warehouse\, Bay #32\, 4216 54 Ave SE\, Calgary\, Alberta\, T2C 2E3\, Canada
CATEGORIES:Costumes,Elf Costume Tryon,Santa Costume Tryon
ATTACH;FMTTYPE=image/jpeg:https://themagicofchristmas.org/wp-content/uploads/2018/11/Santa-Elf.jpg
END:VEVENT
BEGIN:VEVENT
DTSTART;VALUE=DATE:20251223
DTEND;VALUE=DATE:20251224
DTSTAMP:20260423T174215
CREATED:20250925T195629Z
LAST-MODIFIED:20250925T195629Z
UID:4575-1766448000-1766534399@www.themagicofchristmas.org
SUMMARY:2025 Hospital Visits
DESCRIPTION:Details to come \nRegister to volunteer
URL:https://www.themagicofchristmas.org/event/2025-hospital-visits/
CATEGORIES:Volunteers
END:VEVENT
BEGIN:VEVENT
DTSTART;VALUE=DATE:20251224
DTEND;VALUE=DATE:20251225
DTSTAMP:20260423T174215
CREATED:20250925T195752Z
LAST-MODIFIED:20250925T195752Z
UID:4577-1766534400-1766620799@www.themagicofchristmas.org
SUMMARY:Christmas Eve
DESCRIPTION:Register to volunteer
URL:https://www.themagicofchristmas.org/event/christmas-eve-2/
LOCATION:Magic of Christmas Warehouse\, Bay #32\, 4216 54 Ave SE\, Calgary\, Alberta\, T2C 2E3\, Canada
CATEGORIES:Volunteers
END:VEVENT
BEGIN:VEVENT
DTSTART;VALUE=DATE:20261224
DTEND;VALUE=DATE:20261225
DTSTAMP:20260423T174215
CREATED:20260416T011420Z
LAST-MODIFIED:20260416T011420Z
UID:4890-1798070400-1798156799@www.themagicofchristmas.org
SUMMARY:Christmas Eve 2026
DESCRIPTION:
URL:https://www.themagicofchristmas.org/event/christmas-eve-2026/
END:VEVENT
END:VCALENDAR