BEGIN:VCALENDAR
VERSION:2.0
PRODID:-//The Magic of Christmas - ECPv6.15.12.2//NONSGML v1.0//EN
CALSCALE:GREGORIAN
METHOD:PUBLISH
X-WR-CALNAME:The Magic of Christmas
X-ORIGINAL-URL:https://www.themagicofchristmas.org
X-WR-CALDESC:Events for The Magic of Christmas
REFRESH-INTERVAL;VALUE=DURATION:PT1H
X-Robots-Tag:noindex
X-PUBLISHED-TTL:PT1H
BEGIN:VTIMEZONE
TZID:America/Denver
BEGIN:DAYLIGHT
TZOFFSETFROM:-0700
TZOFFSETTO:-0600
TZNAME:MDT
DTSTART:20190310T090000
END:DAYLIGHT
BEGIN:STANDARD
TZOFFSETFROM:-0600
TZOFFSETTO:-0700
TZNAME:MST
DTSTART:20191103T080000
END:STANDARD
BEGIN:DAYLIGHT
TZOFFSETFROM:-0700
TZOFFSETTO:-0600
TZNAME:MDT
DTSTART:20200308T090000
END:DAYLIGHT
BEGIN:STANDARD
TZOFFSETFROM:-0600
TZOFFSETTO:-0700
TZNAME:MST
DTSTART:20201101T080000
END:STANDARD
BEGIN:DAYLIGHT
TZOFFSETFROM:-0700
TZOFFSETTO:-0600
TZNAME:MDT
DTSTART:20210314T090000
END:DAYLIGHT
BEGIN:STANDARD
TZOFFSETFROM:-0600
TZOFFSETTO:-0700
TZNAME:MST
DTSTART:20211107T080000
END:STANDARD
BEGIN:DAYLIGHT
TZOFFSETFROM:-0700
TZOFFSETTO:-0600
TZNAME:MDT
DTSTART:20220313T090000
END:DAYLIGHT
BEGIN:STANDARD
TZOFFSETFROM:-0600
TZOFFSETTO:-0700
TZNAME:MST
DTSTART:20221106T080000
END:STANDARD
BEGIN:DAYLIGHT
TZOFFSETFROM:-0700
TZOFFSETTO:-0600
TZNAME:MDT
DTSTART:20230312T090000
END:DAYLIGHT
BEGIN:STANDARD
TZOFFSETFROM:-0600
TZOFFSETTO:-0700
TZNAME:MST
DTSTART:20231105T080000
END:STANDARD
END:VTIMEZONE
BEGIN:VEVENT
DTSTART;VALUE=DATE:20221001
DTEND;VALUE=DATE:20221022
DTSTAMP:20260424T080851
CREATED:20221009T203034Z
LAST-MODIFIED:20221009T203642Z
UID:3493-1664582400-1666396799@www.themagicofchristmas.org
SUMMARY:Holiday Favourites Cookbook Submissions
DESCRIPTION:As a fundraiser this year we have decided to create our very own “Magic of Christmas\, Holiday Favourites” cookbook! Want to be part of this great initiative? Send us your favorite holiday recipe(s) to leave a piece of your family tradition on the record! Any and all recipes are welcomed! \nThe final product will be available for purchase later this year! Please send your recipes to jkane@themagicofchristmas.org by OCTOBER 21ST
URL:https://www.themagicofchristmas.org/event/holiday-favourites-cookbook-submissions/
LOCATION:Alberta
CATEGORIES:Cookbook,Fundraising
END:VEVENT
BEGIN:VEVENT
DTSTART;TZID=America/Denver:20220625T100000
DTEND;TZID=America/Denver:20220625T110000
DTSTAMP:20260424T080851
CREATED:20220607T200752Z
LAST-MODIFIED:20220607T200752Z
UID:3424-1656151200-1656154800@www.themagicofchristmas.org
SUMMARY:2022 AGM and Election
DESCRIPTION:For 2022\, we’re again hosting our AGM and election of our executive team online. \nPlease let us know if you’re able to join us or if you’d like to run for one of the elected positions. \nPlease RSVP below
URL:https://www.themagicofchristmas.org/event/2022-agm-and-election/
LOCATION:Alberta
CATEGORIES:AGM
ORGANIZER;CN="Scott Perley":MAILTO:president@themagicofchristmas.org
END:VEVENT
BEGIN:VEVENT
DTSTART;TZID=America/Denver:20220529T120000
DTEND;TZID=America/Denver:20220529T170000
DTSTAMP:20260424T080851
CREATED:20220416T213226Z
LAST-MODIFIED:20220508T215742Z
UID:3394-1653825600-1653843600@www.themagicofchristmas.org
SUMMARY:2022 31st Annual YYC Awareness Ride
DESCRIPTION:What\n30th Annual Motorcycle Awareness Ride \n\n\n\nWe raise funds for charity while on the mission to raise awareness on the road for motorists to watch out for Motorcycles. Please C-Us!\nAll motorcycle riders are welcome. The ride will start at McMahon Stadium and Calgary Police will escort the ride across the city to The Magic of Christmas warehouse\nThere will be live music\, food trucks and a silent auction\nFor the past 4 years\, the Magic of Christmas has been the charity partner benefiting from all funds raised.\nMore info at YYCAwarenessRide.com\nSite opens at 10am\, Kickstands up at noon\n\n\n\nWhere:\n\n\n\nStarts at McMahon Stadium West Parking Lot (just off University Drive)\nFinish at: The Magic of Christmas Warehouse (#1\, 4416 – 5th Street NE)\n\n\n\nHow:\nWant to Volunteer? We have some opportunities to help out at this event.\nhttps://www.themagicofchristmas.org/volunteer-opps/
URL:https://www.themagicofchristmas.org/event/31st-yyc-awareness-ride/
LOCATION:McMahon Stadium\, 1817 Crowchild Trail NW\, Calgary\, Alberta\, Canada
ATTACH;FMTTYPE=image/jpeg:https://themagicofchristmas.org/wp-content/uploads/2022/04/2022-Awareness-Ride-Logo-200x200-1.jpg
END:VEVENT
BEGIN:VEVENT
DTSTART;TZID=America/Denver:20220429T080000
DTEND;TZID=America/Denver:20220501T170000
DTSTAMP:20260424T080851
CREATED:20220416T210659Z
LAST-MODIFIED:20220416T211441Z
UID:3386-1651219200-1651424400@www.themagicofchristmas.org
SUMMARY:2022 Fabric & Yarn Sale
DESCRIPTION:FABRIC & YARN SALE\nThe Magic of Christmas is happy to support and work with other local charities.  The Fabric and Yarn sale will be hosted at The Magic of Christmas Warehouse \n\nFriday\, April 29 to Sunday\, May 1\, 2022\nAdmission is Free\nTickets available through EVENTBRITE\nDebit and Credit only\nBring your own bag\n\nDonations Wanted:\n\nFabric 1 meter or longer\, unless quilting cotton or exceptional pieces\nYarns\, knitting needles\, patterns\nSewing notions\, threads\, patterns etc.\n\nDonations may be dropped off at:\nMagic of Christmas Warehouse\nTuesday\, April 26 & Wed\, April 27\, 10:00 am – 3:00 pm\nNO THURSDAY DROP OFF \nAll proceeds to the Stephen Lewis Foundation
URL:https://www.themagicofchristmas.org/event/2022-fabric-yarn-sale/
LOCATION:Magic of Christmas Warehouse\, Bay #32\, 4216 54 Ave SE\, Calgary\, Alberta\, T2C 2E3\, Canada
ORGANIZER;CN="Ujama Grandmas":MAILTO:fabricsale@ujamaagrandmas.com
END:VEVENT
BEGIN:VEVENT
DTSTART;TZID=America/Denver:20220422T160000
DTEND;TZID=America/Denver:20220423T160000
DTSTAMP:20260424T080851
CREATED:20220416T204601Z
LAST-MODIFIED:20220416T213846Z
UID:3380-1650643200-1650729600@www.themagicofchristmas.org
SUMMARY:Rotary Club of Calgary Heritage Park Second Chance Art Sale
DESCRIPTION:2022 Rotary Club of Calgary Second Chance Art Sale\nThe Magic of Christmas is proud to support other local charities. \n\n\n\nOver 2\,000 pieces of art in EVERY style\, size and colour so you are sure to find a new favourite.\n\n\nYou’ll find fine art – original and prints – priced from $15 to over $1\,000. The fine art is all priced at fraction of the retail price.\n\n\nLots of walls to fill so you’re looking for decorative art? You’ll find it – they have a huge selection to explore priced from $15 to over $100.\n\n\nIn our larger venue at the Acadia Recreation Complex we’ve got lots of room for you to explore the amazing selection.\n\n\nApril 22 from 4-8 and April 23 from 9-4.
URL:https://www.themagicofchristmas.org/event/rotary-club-of-calgary-heritage-park-second-chance-art-sale/
LOCATION:Acadia Recreation Complex\, 240 - 90 Avenue SE\, Calgary\, Alberta\, Canada
ATTACH;FMTTYPE=image/jpeg:https://themagicofchristmas.org/wp-content/uploads/2022/04/ArtSale.jpg
ORGANIZER;CN="Rotary Art Sale":MAILTO:rotaryartsale@gmail.com
END:VEVENT
BEGIN:VEVENT
DTSTART;TZID=America/Denver:20211218T130000
DTEND;TZID=America/Denver:20211218T143000
DTSTAMP:20260424T080851
CREATED:20211127T211613Z
LAST-MODIFIED:20211127T211613Z
UID:3312-1639832400-1639837800@www.themagicofchristmas.org
SUMMARY:2021 Dog Christmas PawTY
DESCRIPTION:
URL:https://www.themagicofchristmas.org/event/2021-dog-christmas-pawty/
LOCATION:Play Unleashed\, 10135 Township Road 264\, Rocky View County\, Alberta\, T4B 2Z8\, Canada
END:VEVENT
BEGIN:VEVENT
DTSTART;VALUE=DATE:20211215
DTEND;VALUE=DATE:20211216
DTSTAMP:20260424T080851
CREATED:20210927T033601Z
LAST-MODIFIED:20210927T033601Z
UID:3099-1639526400-1639612799@www.themagicofchristmas.org
SUMMARY:Referrals Close
DESCRIPTION:Organizations can refer families for visits on Christmas Eve \nDetails about our referrals process \nTo complete a referral\, please contact our referrals team or call our office to request a referral.
URL:https://www.themagicofchristmas.org/event/referrals-close/
LOCATION:Alberta
CATEGORIES:Referrals
ORGANIZER;CN="Referrals Coordinator":MAILTO:referrals@themagicofchristmas.org
END:VEVENT
BEGIN:VEVENT
DTSTART;VALUE=DATE:20211204
DTEND;VALUE=DATE:20211205
DTSTAMP:20260424T080851
CREATED:20211125T075831Z
LAST-MODIFIED:20211127T231746Z
UID:3289-1638576000-1638662399@www.themagicofchristmas.org
SUMMARY:2021 Elf Rally
DESCRIPTION:Event Details\nTo ensure we are keeping all our elves safe for 2021\, we’ll be hosting the 2021 Elf Rally on-line. \nDuring this rally\, the executive will present some background history into the Magic of Christmas Charity\, along with important information you need to know in order to carry out your elfing duties on Christmas Eve. \nYou will also get a sense of the vast contribution you will make to deliver Christmas spirit into the homes and hearts of those who need it most and invite everyone to believe (again!) in the true spirit and The Magic of Christmas.​ \nWe’ll be using a Teams Live Event for this year’s rally. \nTo join the event\, use the form below to RSVP: \n﻿
URL:https://www.themagicofchristmas.org/event/2021-elf-rally/
LOCATION:Online
END:VEVENT
BEGIN:VEVENT
DTSTART;VALUE=DATE:20211106
DTEND;VALUE=DATE:20211108
DTSTAMP:20260424T080851
CREATED:20211102T002318Z
LAST-MODIFIED:20211102T002336Z
UID:3232-1636156800-1636329599@www.themagicofchristmas.org
SUMMARY:The Magic of Christmas Craft Fair
DESCRIPTION:Get an early start on your Christmas shopping as you discover many 100% hand-crafted items made by our volunteers. You’re bound to find some perfect gifts 🎁for your friends and family while supporting The Magic of Christmas. \n\n\nSneak peek to some goodies our volunteers made:\n\nChristmas ornaments\nWreaths\nCandles\nKnitted toques\, scarves\, mittens\nand more\n\n\nFree admission\, donations welcome. \n\n\n \n\n\nProof of vaccination or negative test is required at the entrance up front. Masks are mandatory inside Santa’s workshop. \nFree parking in front of the building or roadside on 5th St. NE. 
URL:https://www.themagicofchristmas.org/event/the-magic-of-christmas-first-craft-fair/
LOCATION:Magic of Christmas Warehouse\, Bay #32\, 4216 54 Ave SE\, Calgary\, Alberta\, T2C 2E3\, Canada
CATEGORIES:Fundraising
ATTACH;FMTTYPE=image/jpeg:https://themagicofchristmas.org/wp-content/uploads/2021/11/Craft-Fair-Invite.jpg
END:VEVENT
BEGIN:VEVENT
DTSTART;VALUE=DATE:20211015
DTEND;VALUE=DATE:20211016
DTSTAMP:20260424T080851
CREATED:20210923T030858Z
LAST-MODIFIED:20211015T033331Z
UID:3092-1634256000-1634342399@www.themagicofchristmas.org
SUMMARY:Volunteer Registration Opens
DESCRIPTION:As of October 15\, 2021\, volunteer registration is now open. \nPlease register here: Volunteer Registration
URL:https://www.themagicofchristmas.org/event/volunteer-registration-opens-2/
LOCATION:Alberta
CATEGORIES:Volunteers
ORGANIZER;CN="Volunteer Coordinator":MAILTO:volunteer@themagicofchristmas.org
END:VEVENT
BEGIN:VEVENT
DTSTART;VALUE=DATE:20211001
DTEND;VALUE=DATE:20211216
DTSTAMP:20260424T080851
CREATED:20210927T032727Z
LAST-MODIFIED:20210927T033027Z
UID:3097-1633046400-1639612799@www.themagicofchristmas.org
SUMMARY:Referrals open
DESCRIPTION:Organizations can refer families for visits on Christmas Eve \nDetails about our referrals process \nTo complete a referral\, please contact our referrals team or call our office to request a referral.
URL:https://www.themagicofchristmas.org/event/referrals-open/
LOCATION:Alberta
CATEGORIES:Referrals
END:VEVENT
BEGIN:VEVENT
DTSTART;TZID=America/Denver:20210822T080000
DTEND;TZID=America/Denver:20210822T170000
DTSTAMP:20260424T080851
CREATED:20210407T152533Z
LAST-MODIFIED:20210812T181903Z
UID:3069-1629619200-1629651600@www.themagicofchristmas.org
SUMMARY:30th Annual YYC Awareness Ride
DESCRIPTION:Register for the ride \nWhat\n30th Annual Motorcycle Awareness Ride \n\n\n\nWe raise funds for charity while on the mission to raise awareness on the road for motorists to watch out for Motorcycles. Please C-Us!\nAll motorcycle riders are welcome. The ride will start at McMahon Stadium and Calgary Police will escort the ride across the city to The Magic of Christmas warehouse\nThere will be live music\, food trucks and a silent auction\nFor the past 4 years\, the Magic of Christmas has been the charity partner benefiting from all funds raised.\nMore info at YYCAwarenessRide.com\nSite opens at 10am\, Kickstands up at noon\n\n\n\nWhere:\n\n\n\nStarts at McMahon Stadium West Parking Lot (just off University Drive)\nFinish at: The Magic of Christmas Warehouse (#1\, 4416 – 5th Street NE)\n\n\n\nHow:\n\nRegister here
URL:https://www.themagicofchristmas.org/event/30th-annual-yyc-awareness-ride/
LOCATION:McMahon Stadium\, 1817 Crowchild Trail NW\, Calgary\, Alberta\, Canada
ATTACH;FMTTYPE=image/jpeg:https://themagicofchristmas.org/wp-content/uploads/2021/04/YYC-Awareness-Ride-30YRS.jpg
END:VEVENT
BEGIN:VEVENT
DTSTART;TZID=America/Denver:20210307T130000
DTEND;TZID=America/Denver:20210307T140000
DTSTAMP:20260424T080851
CREATED:20210215T223117Z
LAST-MODIFIED:20210215T223704Z
UID:3045-1615122000-1615125600@www.themagicofchristmas.org
SUMMARY:2021 Annual General Meeting & Election
DESCRIPTION:Once again we’re hosting our AGM and election of our executive team online. \nPlease let us know if you’re able to join us or if you’d like to run for one of the elected positions. \nMore details to come. \nPlease RSVP below
URL:https://www.themagicofchristmas.org/event/2021-annual-general-meeting-election/
LOCATION:Alberta
CATEGORIES:AGM
END:VEVENT
BEGIN:VEVENT
DTSTART;TZID=America/Denver:20210219T103000
DTEND;TZID=America/Denver:20210221T173000
DTSTAMP:20260424T080851
CREATED:20210218T013531Z
LAST-MODIFIED:20210218T014030Z
UID:3051-1613730600-1613928600@www.themagicofchristmas.org
SUMMARY:Ujama Grandmas - 2021 Fabric & Yarn Sale
DESCRIPTION:The Magic of Christmas is hosting the Ujama Grandma’s Fabric & Yarn Sale for 2021 at our warehouse\nMore details here:\n2021 FABRIC & YARN SALE \n\nTo keep everyone safe during the pandemic\, we ask shoppers to register for a time slot on their preferred date. Spots are limited so register now via our Eventbrite page:\n\nFebruary 19 @ 10:30 am – 5:00 pm\nhttps://www.eventbrite.ca/o/ujamaa-grandmas-32278280321\n\n\n\n\nFebruary 20 @ 10:30 am – 5:00 pm\nhttps://www.eventbrite.ca/e/yarn-fabric-public-market-sale-february-20-tickets-139319144311?aff=\n\n\n\n\nFebruary 21 @ 10:30 am – 5:00 pm\nhttps://www.eventbrite.ca/e/yarn-fabric-public-market-sale-february-21-tickets-139319276707?aff=\n\n\n\nDebit and Credit Card Only. No Cash.
URL:https://www.themagicofchristmas.org/event/ujama-grandmas-2021-fabric-yarn-sale/
LOCATION:Magic of Christmas Warehouse\, Bay #32\, 4216 54 Ave SE\, Calgary\, Alberta\, T2C 2E3\, Canada
ORGANIZER;CN="Ujama Grandmas":MAILTO:fabricsale@ujamaagrandmas.com
END:VEVENT
BEGIN:VEVENT
DTSTART;TZID=America/Denver:20210114T150000
DTEND;TZID=America/Denver:20210114T180000
DTSTAMP:20260424T080851
CREATED:20210109T013537Z
LAST-MODIFIED:20210109T013537Z
UID:3042-1610636400-1610647200@www.themagicofchristmas.org
SUMMARY:Santa Suit Returns - 2
DESCRIPTION:It’s time to return those Santa Suits so that we can get inventory done and get them off to be cleaned.  Here are the dates and times the warehouse will be open for drop off – \n\nMonday\, January 11th  3-6PM\nThursday\, January 14th 3-6PM\n\nSantas – if you are unable to drop these off yourself then please have a member of your cohort drop by and return them.  There will be racks in the main foyer so you just need to pop in the door\, hang them up\, and say ‘hello’ and which Santa is returning.  This will be a quick and safe return process 🙂 \nPlease check that the following items are in your garment bag: \n\nSanta coat\, pants & hat\nSpats (fuzzy white things)\nBelly (if you were given one)\nbells & belt (if you were an AM Santa and previously returned these great!)\nHair & wig\nSuspenders (if you picked these up)\n\n**please note that the gloves are disposable.  You can just throw them out.  Any unopened pairs can be left in the garment bag. \nThank you again for volunteering with us this year!  Hope to see you again next year!
URL:https://www.themagicofchristmas.org/event/santa-suit-returns-2/
LOCATION:Magic of Christmas Warehouse\, Bay #32\, 4216 54 Ave SE\, Calgary\, Alberta\, T2C 2E3\, Canada
CATEGORIES:Costumes
ATTACH;FMTTYPE=image/png:https://themagicofchristmas.org/wp-content/uploads/2018/11/Santa.png
END:VEVENT
BEGIN:VEVENT
DTSTART;TZID=America/Denver:20210111T150000
DTEND;TZID=America/Denver:20210111T180000
DTSTAMP:20260424T080851
CREATED:20210109T013245Z
LAST-MODIFIED:20210109T013245Z
UID:3040-1610377200-1610388000@www.themagicofchristmas.org
SUMMARY:Santa Suit Returns - 1
DESCRIPTION:It’s time to return those Santa Suits so that we can get inventory done and get them off to be cleaned.  Here are the dates and times the warehouse will be open for drop off – \n\nMonday\, January 11th  3-6PM\nThursday\, January 14th 3-6PM\n\nSantas – if you are unable to drop these off yourself then please have a member of your cohort drop by and return them.  There will be racks in the main foyer so you just need to pop in the door\, hang them up\, and say ‘hello’ and which Santa is returning.  This will be a quick and safe return process 🙂 \nPlease check that the following items are in your garment bag – \n\nSanta coat\, pants & hat\nSpats (fuzzy white things)\nBelly (if you were given one)\nbells & belt (if you were an AM Santa and previously returned these great!)\nHair & wig\nSuspenders (if you picked these up)\n\n**please note that the gloves are disposable.  You can just throw them out.  Any unopened pairs can be left in the garment bag. \n  \nThank you again for volunteering with us this year!  Hope to see you again next year!
URL:https://www.themagicofchristmas.org/event/santa-suit-returns-1/
LOCATION:Magic of Christmas Warehouse\, Bay #32\, 4216 54 Ave SE\, Calgary\, Alberta\, T2C 2E3\, Canada
CATEGORIES:Costumes
ATTACH;FMTTYPE=image/png:https://themagicofchristmas.org/wp-content/uploads/2018/11/Santa.png
END:VEVENT
BEGIN:VEVENT
DTSTART;VALUE=DATE:20201225
DTEND;VALUE=DATE:20201226
DTSTAMP:20260424T080851
CREATED:20201214T061542Z
LAST-MODIFIED:20201214T061800Z
UID:2899-1608854400-1608940799@www.themagicofchristmas.org
SUMMARY:Christmas Day
DESCRIPTION:Santa and his Elves take a well deserved rest
URL:https://www.themagicofchristmas.org/event/christmas-day/
LOCATION:Alberta
ATTACH;FMTTYPE=image/jpeg:https://themagicofchristmas.org/wp-content/uploads/2018/09/santa-sleeping-800x533-720x3401.jpg
END:VEVENT
BEGIN:VEVENT
DTSTART;TZID=America/Denver:20201224T070000
DTEND;TZID=America/Denver:20201224T233000
DTSTAMP:20260424T080851
CREATED:20201214T061311Z
LAST-MODIFIED:20201214T061312Z
UID:2896-1608793200-1608852600@www.themagicofchristmas.org
SUMMARY:Christmas Eve - The Big Day
DESCRIPTION:Christmas Eve is when we’ll visit families across Calgary!
URL:https://www.themagicofchristmas.org/event/christmas-eve-the-big-day/
LOCATION:Alberta
END:VEVENT
BEGIN:VEVENT
DTSTART;VALUE=DATE:20201210
DTEND;VALUE=DATE:20201211
DTSTAMP:20260424T080851
CREATED:20200917T035424Z
LAST-MODIFIED:20200917T035424Z
UID:2639-1607558400-1607644799@www.themagicofchristmas.org
SUMMARY:2020 Referrals Close
DESCRIPTION:Details to Come
URL:https://www.themagicofchristmas.org/event/2020-referrals-close/
LOCATION:Alberta
CATEGORIES:Referrals
ORGANIZER;CN="Referrals Coordinator":MAILTO:referrals@themagicofchristmas.org
END:VEVENT
BEGIN:VEVENT
DTSTART;VALUE=DATE:20201209
DTEND;VALUE=DATE:20201210
DTSTAMP:20260424T080851
CREATED:20201116T042407Z
LAST-MODIFIED:20241105T152705Z
UID:2811-1607472000-1607558399@www.themagicofchristmas.org
SUMMARY:2020 GlobalTV Morning of Giving
DESCRIPTION:GlobalTV is promoting the Magic of Christmas during the month of December and will feature the charity on Wednesday\, December 9th during the morning show\, lunch hour and evening news. \n \nDonate here.
URL:https://www.themagicofchristmas.org/event/globaltv-morning-of-giving/
LOCATION:Alberta
CATEGORIES:Fundraising
END:VEVENT
BEGIN:VEVENT
DTSTART;TZID=America/Denver:20201208T180000
DTEND;TZID=America/Denver:20201208T193000
DTSTAMP:20260424T080851
CREATED:20201201T205802Z
LAST-MODIFIED:20201209T153853Z
UID:2864-1607450400-1607455800@www.themagicofchristmas.org
SUMMARY:CEO Training Day 2
DESCRIPTION:Recorded Event\nTo view a recording of the event\, watch on our YouTube channel here. \nEvent Details\nCEOs (Chief Elf Onboard) are very important to the success of our program \nWe have 2 online training days planned. \nIf you’re volunteering as a CEO\, you’ll learn how we’re doing things this year to keep everyone safe this year.
URL:https://www.themagicofchristmas.org/event/ceo-training-day-2-2/
LOCATION:Alberta
CATEGORIES:CEO Training
END:VEVENT
BEGIN:VEVENT
DTSTART;TZID=America/Denver:20201205T150000
DTEND;TZID=America/Denver:20201205T160000
DTSTAMP:20260424T080851
CREATED:20201201T205428Z
LAST-MODIFIED:20201209T153741Z
UID:2852-1607180400-1607184000@www.themagicofchristmas.org
SUMMARY:CEO Training Day 1
DESCRIPTION:Recorded Event\nTo view a recording of the event\, watch on our YouTube channel here. \nEvent Details\nCEOs (Chief Elf Onboard) are very important to the success of our program \nWe have 2 online training days planned. \nIf you’re volunteering as a CEO\, you’ll learn how we’re doing things this year to keep everyone safe this year. \n 
URL:https://www.themagicofchristmas.org/event/ceo-training-day-1-2/
LOCATION:Alberta
CATEGORIES:CEO Training
END:VEVENT
BEGIN:VEVENT
DTSTART;TZID=America/Denver:20201205T130000
DTEND;TZID=America/Denver:20201205T150000
DTSTAMP:20260424T080851
CREATED:20201025T081627Z
LAST-MODIFIED:20201207T205616Z
UID:2722-1607173200-1607180400@www.themagicofchristmas.org
SUMMARY:2020 Elf Rally
DESCRIPTION:Recorded Event\nTo view a recording of the event\, watch on our YouTube channel here. \nEvent Details\nTo ensure we are keeping all our elves safe for 2020\, we’ll be hosting the 2020 Elf Rally on-line. \nDuring this rally\, the executive will present some background history into the Magic of Christmas Charity\, along with important information you need to know in order to carry out your elfing duties on Christmas Eve. \nYou will also get a sense of the vast contribution you will make at Christmas to bring happiness and joy to many families in need! \nWe’ll be using a Teams Live Event for this year’s rally. \nTo join the event:  Click the link here.
URL:https://www.themagicofchristmas.org/event/2020-elf-rally/
LOCATION:Alberta
CATEGORIES:CEO Training,Santa Training,Training,Volunteers
END:VEVENT
BEGIN:VEVENT
DTSTART;TZID=America/Denver:20201128T100000
DTEND;TZID=America/Denver:20201129T180000
DTSTAMP:20260424T080851
CREATED:20201124T175822Z
LAST-MODIFIED:20201125T055903Z
UID:2823-1606557600-1606672800@www.themagicofchristmas.org
SUMMARY:The Magic of Christmas Craft Fair - POSTPONED
DESCRIPTION:**UPDATE**\n\n\nAs per the November 24th’s announcement by the Premier and AHS\, no indoor social gatherings will be allowed for the next three weeks. Our first craft fair has been postponed until further notice.\n\n\n\n\n\nOriginal event details:\n\nThis year we believe it is especially important to keep traditions alive\, even if Christmas looks different. The Magic of Christmas is hosting our first craft fair.\nShowcasing 100% hand-crafted items donated by volunteers from our Magic of Christmas village.\n\nAll proceeds go back to our charity.\n\nFREE admission with non-perishable food item. The donated food will be part of our Food Hampers this year. There will be boxes for the food donation by the entrance.\nThe front door will be closed to attendees. Instead\, enter through the back door. See map for more details.\nDon’t worry! Signages will be displayed to direct traffic flow within Santa’s workshop.\n\nWith new public health measures in place in communities across Alberta\, we are implementing the following protocol to keep our volunteers and attendees safe:\n. Only 10 people are allowed within the sale area at one time\n· Screening process will be in place and hand sanitizer will be provided upon arrival\n· Ample space between each table to be socially distanced\n· Dedicated entry and exit points\n· Debit/credit payment ONLY to avoid volunteers handling attendee’s personal items.\n· Items will be individually packaged\n· Mask or face covering is mandatory inside Santa’s workshop
URL:https://www.themagicofchristmas.org/event/the-magic-of-christmas-craft-fair/
LOCATION:Magic of Christmas Warehouse\, Bay #32\, 4216 54 Ave SE\, Calgary\, Alberta\, T2C 2E3\, Canada
ATTACH;FMTTYPE=image/jpeg:https://themagicofchristmas.org/wp-content/uploads/2020/11/MoC-craft-fair.jpg
END:VEVENT
BEGIN:VEVENT
DTSTART;VALUE=DATE:20201116
DTEND;VALUE=DATE:20201221
DTSTAMP:20260424T080851
CREATED:20201116T041905Z
LAST-MODIFIED:20201116T041905Z
UID:2808-1605484800-1608508799@www.themagicofchristmas.org
SUMMARY:Charity Gingerbread Competition & Display
DESCRIPTION:3rd Annual\nDeerfoot Inn & Casino Charity Gingerbread Competition & Display \nNovember 16 – December 20\, 2020 \nPut your culinary team to the test!\nBuild a gingerbread house for charity & a Chance to win $1\,000\n(All proceeds from voting to be donated to ‘The Magic of Christmas’) \nGingerbread house with the most votes Win $1\,000 Cash
URL:https://www.themagicofchristmas.org/event/charity-gingerbread-competition-display/
LOCATION:Deerfoot Inn & Casino\, 1000\, 11500 - 35 Street SE\, Calgary\, AB\, Canada
CATEGORIES:Fundraising
END:VEVENT
BEGIN:VEVENT
DTSTART;TZID=America/Denver:20201115T130000
DTEND;TZID=America/Denver:20201115T140000
DTSTAMP:20260424T080851
CREATED:20201108T201946Z
LAST-MODIFIED:20201108T201946Z
UID:2753-1605445200-1605448800@www.themagicofchristmas.org
SUMMARY:Donation Box Drop Off / Pick Up Training
DESCRIPTION:We are hosting a virtual training session on November 15th at 1 pm to talk about COVID-19 protocols and a few updates to the Donation Box program.  To help with Donation Box drop offs\, please sign up here: http://themagicofchristmas.org/volunteer-registration/
URL:https://www.themagicofchristmas.org/event/donation-box-drop-off-pick-up-training/
LOCATION:Alberta
CATEGORIES:Donation Boxes,Training,Volunteers
ORGANIZER;CN="Volunteer Coordinator":MAILTO:volunteer@themagicofchristmas.org
END:VEVENT
BEGIN:VEVENT
DTSTART;VALUE=DATE:20201019
DTEND;VALUE=DATE:20201213
DTSTAMP:20260424T080851
CREATED:20201025T081243Z
LAST-MODIFIED:20201025T081243Z
UID:2720-1603065600-1607817599@www.themagicofchristmas.org
SUMMARY:2020 Volunteer Registration Open
DESCRIPTION:Volunteers can sign up to be elves and Santas for Christmas 2020 \nAll volunteers must register to participate. Visit the registration page here
URL:https://www.themagicofchristmas.org/event/2020-volunteer-registration-open/
LOCATION:Alberta
CATEGORIES:Volunteers
END:VEVENT
BEGIN:VEVENT
DTSTART;VALUE=DATE:20201010
DTEND;VALUE=DATE:20201211
DTSTAMP:20260424T080851
CREATED:20200917T035028Z
LAST-MODIFIED:20201025T075142Z
UID:2637-1602288000-1607644799@www.themagicofchristmas.org
SUMMARY:2020 Referrals Open
DESCRIPTION:Referring agencies can refer families for the 2020 Christmas Season \nVisit the Referrals page for details about how to refer a family
URL:https://www.themagicofchristmas.org/event/2020-referrals-open/
LOCATION:Alberta
CATEGORIES:Referrals
END:VEVENT
END:VCALENDAR