BEGIN:VCALENDAR
VERSION:2.0
PRODID:-//The Magic of Christmas - ECPv6.15.12.2//NONSGML v1.0//EN
CALSCALE:GREGORIAN
METHOD:PUBLISH
X-WR-CALNAME:The Magic of Christmas
X-ORIGINAL-URL:https://www.themagicofchristmas.org
X-WR-CALDESC:Events for The Magic of Christmas
REFRESH-INTERVAL;VALUE=DURATION:PT1H
X-Robots-Tag:noindex
X-PUBLISHED-TTL:PT1H
BEGIN:VTIMEZONE
TZID:America/Denver
BEGIN:DAYLIGHT
TZOFFSETFROM:-0700
TZOFFSETTO:-0600
TZNAME:MDT
DTSTART:20210314T090000
END:DAYLIGHT
BEGIN:STANDARD
TZOFFSETFROM:-0600
TZOFFSETTO:-0700
TZNAME:MST
DTSTART:20211107T080000
END:STANDARD
BEGIN:DAYLIGHT
TZOFFSETFROM:-0700
TZOFFSETTO:-0600
TZNAME:MDT
DTSTART:20220313T090000
END:DAYLIGHT
BEGIN:STANDARD
TZOFFSETFROM:-0600
TZOFFSETTO:-0700
TZNAME:MST
DTSTART:20221106T080000
END:STANDARD
BEGIN:DAYLIGHT
TZOFFSETFROM:-0700
TZOFFSETTO:-0600
TZNAME:MDT
DTSTART:20230312T090000
END:DAYLIGHT
BEGIN:STANDARD
TZOFFSETFROM:-0600
TZOFFSETTO:-0700
TZNAME:MST
DTSTART:20231105T080000
END:STANDARD
END:VTIMEZONE
BEGIN:VEVENT
DTSTART;TZID=America/Denver:20221001T000000
DTEND;TZID=America/Denver:20221215T180000
DTSTAMP:20260425T175526
CREATED:20221003T025530Z
LAST-MODIFIED:20221216T012745Z
UID:3477-1664582400-1671127200@www.themagicofchristmas.org
SUMMARY:Referrals Open
DESCRIPTION:From October 1st until December 15th\, The Magic of Christmas is accepting requests to visit families from our referral organization partners. \nOrganizations who referred families for 2021 should have received an email detailing how they can refer families for 2022.  You can request the referral form here if you represent a vetted organization (Check here for details)
URL:https://www.themagicofchristmas.org/event/referrals-open-2/
CATEGORIES:Referrals
END:VEVENT
BEGIN:VEVENT
DTSTART;TZID=America/Denver:20221201T070000
DTEND;TZID=America/Denver:20221201T090000
DTSTAMP:20260425T175526
CREATED:20221114T024209Z
LAST-MODIFIED:20221118T212503Z
UID:3554-1669878000-1669885200@www.themagicofchristmas.org
SUMMARY:2022 Global Calgary Cookie Sale
DESCRIPTION:Join Leslie Horton and Global News for a holiday Cookie Sale on Thursday\, December 1 from 7-9 a.m. at the Blue Flame Kitchen at ATCO Park.\nLocal Calgary chefs are baking up their best recipes with all proceeds going to Global Calgary’s Morning of Giving (in support of The Magic of Christmas) – helping families in need celebrate Christmas.\nPricing is $20 for a baker’s dozen.
URL:https://www.themagicofchristmas.org/event/2022-global-calgary-cookie-sale/
LOCATION:ATCO Blue Flame Kitchen\, 5302 Forand St SW\, Calgary\, Alberta\, T3E 8B4\, Canada
CATEGORIES:Fundraising,Global
ATTACH;FMTTYPE=image/jpeg:https://themagicofchristmas.org/wp-content/uploads/2022/11/Cookie-Sale-1200x630-FB.jpg
END:VEVENT
BEGIN:VEVENT
DTSTART;TZID=America/Denver:20221201T173000
DTEND;TZID=America/Denver:20221201T220000
DTSTAMP:20260425T175526
CREATED:20221118T225603Z
LAST-MODIFIED:20221118T232936Z
UID:3598-1669915800-1669932000@www.themagicofchristmas.org
SUMMARY:Tom Jackson Stories\, Songs & Santa Causes
DESCRIPTION:Tom Jackson kickstarts the holiday season with grace\, style\, and quirky festivity that many have enjoyed for decades. Expect an evening of original music\, sing-along tunes\, and signature Christmas music from this master storyteller. Tom has travelled coast to coast to coast with The Huron Carole for many years\, raising funds and awareness for local food banks and family service agencies\, and this year\, Flores and Pine audiences will get to enjoy some of his in-person charm with proceeds going to The Magic of Christmas \nFor more details and to book a reservation:  https://www.floresandpine.com/tomjacksonchristmas \nTOM JACKSON\n \nAs a Companion of the Order of Canada\, Juno and Gemini Humanitarian Award winner\, eleven-time honorary degree recipient\, and a proud bearer of the 2014 Governor General’s Performing Arts Award for Lifetime Achievement\, Tom is noted for his ability to mobilize others into action – often leading with a hug. \nStories\, Songs and Santa Causes also features award-winning musician and producer\, Tom McKillip. Tom and Tom can’t promise “no Dad jokes”\, but the performance will bring some much-welcome levity and humanity with a date-night – or family-day – vibe! \n 
URL:https://www.themagicofchristmas.org/event/tom-jackson-stories-songs-santa-causes/
LOCATION:Flores & Pine\, 254028 Bearspaw Road\, Calgary\, Alberta\, Canada
CATEGORIES:Flores & Pine,Fundraising
ATTACH;FMTTYPE=image/jpeg:https://themagicofchristmas.org/wp-content/uploads/2022/11/e086d1_43a629aa7b984adeaef5814c1dd0555emv21.jpg
END:VEVENT
BEGIN:VEVENT
DTSTART;TZID=America/Denver:20221203T133000
DTEND;TZID=America/Denver:20221203T160000
DTSTAMP:20260425T175526
CREATED:20220913T000939Z
LAST-MODIFIED:20221125T213440Z
UID:3433-1670074200-1670083200@www.themagicofchristmas.org
SUMMARY:Elf Rally - 2022
DESCRIPTION:Event Details\nWe’re having our Elf Rally in-person again for 2022! \nThe Elf rally is During this rally\, the executive will present some background history into the Magic of Christmas Charity\, along with important information you need to know in order to carry out your elfing duties on Christmas Eve. \nYou will also get a sense of the vast contribution you will make to deliver Christmas spirit into the homes and hearts of those who need it most and invite everyone to believe (again!) in the true spirit and The Magic of Christmas. \nThe rally will be held at The Magic of Christmas warehouse at #1\, 4416 – 5 Street NE​ \nPlease bring a gift card!  Every gift card gets your name in a draw for door prizes! \nPlease RSVP to let us know you’re coming:\n﻿﻿﻿﻿﻿﻿﻿﻿
URL:https://www.themagicofchristmas.org/event/elf-rally-2022/
LOCATION:Magic of Christmas Warehouse\, Bay #32\, 4216 54 Ave SE\, Calgary\, Alberta\, T2C 2E3\, Canada
CATEGORIES:Training
END:VEVENT
BEGIN:VEVENT
DTSTART;TZID=America/Denver:20221203T150000
DTEND;TZID=America/Denver:20221203T180000
DTSTAMP:20260425T175526
CREATED:20221125T225551Z
LAST-MODIFIED:20221125T225650Z
UID:2257-1670079600-1670090400@www.themagicofchristmas.org
SUMMARY:Costume Try-ons - After Elf Rally
DESCRIPTION:If you’ve received a confirmation for a bus\, hospital or santa party shift\, you can come to figure out your costume! \nDid you join our growing family of elves and Santas this year? The following costume fittings are for registered and confirmed bus and hospital route volunteers only. Costume fittings take place at our workshop.\nImportant: You must receive an email notification from us letting you know that you’ve been scheduled for a bus or hospital shift before attending one of the following. \nClick here to learn more about our volunteer opportunities. \nCostume fitting Dates\n\nView the costume fitting dates we currently have available. \nDo you have your own costume?  Please let us know! \nGo back to the events page.
URL:https://www.themagicofchristmas.org/event/costume-try-ons-after-elf-rally/
LOCATION:Magic of Christmas Warehouse\, Bay #32\, 4216 54 Ave SE\, Calgary\, Alberta\, T2C 2E3\, Canada
CATEGORIES:Costumes,Elf Costume Tryon,Santa Costume Tryon
END:VEVENT
BEGIN:VEVENT
DTSTART;TZID=America/Denver:20221204T110000
DTEND;TZID=America/Denver:20221204T150000
DTSTAMP:20260425T175526
CREATED:20221125T225818Z
LAST-MODIFIED:20221125T225848Z
UID:3619-1670151600-1670166000@www.themagicofchristmas.org
SUMMARY:Costume Try-Ons Day 2
DESCRIPTION:If you’ve received a confirmation for a bus\, hospital or santa party shift\, you can come to figure out your costume! \nDid you join our growing family of elves and Santas this year? The following costume fittings are for registered and confirmed bus and hospital route volunteers only. Costume fittings take place at our workshop.\nImportant: You must receive an email notification from us letting you know that you’ve been scheduled for a bus or hospital shift before attending one of the following. \nClick here to learn more about our volunteer opportunities. \nCostume fitting Dates\n\nView the costume fitting dates we currently have available. \nDo you have your own costume?  Please let us know! \nGo back to the events page.
URL:https://www.themagicofchristmas.org/event/3619/
LOCATION:Magic of Christmas Warehouse\, Bay #32\, 4216 54 Ave SE\, Calgary\, Alberta\, T2C 2E3\, Canada
CATEGORIES:Costumes,Elf Costume Tryon,Santa Costume Tryon
END:VEVENT
BEGIN:VEVENT
DTSTART;TZID=America/Denver:20221205T160000
DTEND;TZID=America/Denver:20221205T200000
DTSTAMP:20260425T175526
CREATED:20221125T230022Z
LAST-MODIFIED:20221125T230022Z
UID:3622-1670256000-1670270400@www.themagicofchristmas.org
SUMMARY:Costume Try-Ons - Day 3
DESCRIPTION:If you’ve received a confirmation for a bus\, hospital or santa party shift\, you can come to figure out your costume! \nDid you join our growing family of elves and Santas this year? The following costume fittings are for registered and confirmed bus and hospital route volunteers only. Costume fittings take place at our workshop.\nImportant: You must receive an email notification from us letting you know that you’ve been scheduled for a bus or hospital shift before attending one of the following. \nClick here to learn more about our volunteer opportunities. \nCostume fitting Dates\n\nView the costume fitting dates we currently have available. \nDo you have your own costume?  Please let us know! \nGo back to the events page.
URL:https://www.themagicofchristmas.org/event/costume-try-ons-day-3/
CATEGORIES:Costumes,Elf Costume Tryon,Santa Costume Tryon
END:VEVENT
BEGIN:VEVENT
DTSTART;TZID=America/Denver:20221207T060000
DTEND;TZID=America/Denver:20221207T090000
DTSTAMP:20260425T175526
CREATED:20221114T063805Z
LAST-MODIFIED:20221123T225748Z
UID:3574-1670392800-1670403600@www.themagicofchristmas.org
SUMMARY:2022 Global Calgary Morning of Giving
DESCRIPTION:After a two-year break (and two years of a Month of Giving)\, Global Calgary hosts its fifth Morning of Giving on Wednesday\, December 7 from 6 – 9 a.m. in support of The Magic of Christmas.\nJoin Leslie Horton and our donation drive-thru at our Global Calgary studios (222 23 St. NE) and drop off a new\, unwrapped gift for any age (household items\, clothing\, toys\, electronics\, etc.) to help Calgary families in need.
URL:https://www.themagicofchristmas.org/event/2022-global-calgary-morning-of-giving/
LOCATION:Global Calgary Studio\, 222 23 Street NE\, Calgary\, Alberta\, T2E 7N2\, Canada
CATEGORIES:Fundraising,Global
ATTACH;FMTTYPE=image/jpeg:https://themagicofchristmas.org/wp-content/uploads/2022/11/Morning-of-Giving-FB-1200x630-1.jpg
END:VEVENT
BEGIN:VEVENT
DTSTART;TZID=America/Denver:20221214T160000
DTEND;TZID=America/Denver:20221214T200000
DTSTAMP:20260425T175526
CREATED:20221207T063130Z
LAST-MODIFIED:20221208T021025Z
UID:3645-1671033600-1671048000@www.themagicofchristmas.org
SUMMARY:Costume Try-Ons - Day 4
DESCRIPTION:If you’ve received a confirmation for a bus\, hospital or santa party shift\, you can come to figure out your costume! \nDid you join our growing family of elves and Santas this year? The following costume fittings are for registered and confirmed bus and hospital route volunteers only. Costume fittings take place at our workshop.\nImportant: You must receive an email notification from us letting you know that you’ve been scheduled for a bus or hospital shift before attending one of the following. \nClick here to learn more about our volunteer opportunities. \nCostume fitting Dates\n\nView the costume fitting dates we currently have available. \nDo you have your own costume?  Please let us know! \nGo back to the events page.
URL:https://www.themagicofchristmas.org/event/costume-try-ons-day-4/
LOCATION:Magic of Christmas Warehouse\, Bay #32\, 4216 54 Ave SE\, Calgary\, Alberta\, T2C 2E3\, Canada
CATEGORIES:Costumes,Elf Costume Tryon
END:VEVENT
BEGIN:VEVENT
DTSTART;VALUE=DATE:20221218
DTEND;VALUE=DATE:20221219
DTSTAMP:20260425T175526
CREATED:20221211T164210Z
LAST-MODIFIED:20221211T195127Z
UID:3652-1671321600-1671407999@www.themagicofchristmas.org
SUMMARY:Order Magic of Christmas Merchandise
DESCRIPTION:Are you looking to get your hands on some Magic of Christmas swag? Do you know that we have our own merch line? Profits from every purchase will be going directly to The Magic of Christmas. The last day to have items shipped to Santa’s Workshop is December 13th . The last day to order for pickup at Ink Engine is December 18th! Check out the merch store here: MoC Merchandise Store
URL:https://www.themagicofchristmas.org/event/order-magic-of-christmas-merchandise/
CATEGORIES:Fundraising
END:VEVENT
BEGIN:VEVENT
DTSTART;TZID=America/Denver:20221219T130000
DTEND;TZID=America/Denver:20221219T193000
DTSTAMP:20260425T175526
CREATED:20221216T191716Z
LAST-MODIFIED:20221216T191716Z
UID:3672-1671454800-1671478200@www.themagicofchristmas.org
SUMMARY:Costume Try-Ons Day 5
DESCRIPTION:If you’ve received a confirmation for a bus\, hospital or santa party shift\, you can come to figure out your costume! \nDid you join our growing family of elves and Santas this year? The following costume fittings are for registered and confirmed bus and hospital route volunteers only. Costume fittings take place at our workshop.\nImportant: You must receive an email notification from us letting you know that you’ve been scheduled for a bus or hospital shift before attending one of the following. \nClick here to learn more about our volunteer opportunities. \nCostume fitting Dates\n\nView the costume fitting dates we currently have available. \nDo you have your own costume?  Please let us know! \nGo back to the events page.
URL:https://www.themagicofchristmas.org/event/costume-try-ons-day-5/
LOCATION:Magic of Christmas Warehouse\, Bay #32\, 4216 54 Ave SE\, Calgary\, Alberta\, T2C 2E3\, Canada
CATEGORIES:Costumes,Elf Costume Tryon,Santa Costume Tryon
END:VEVENT
END:VCALENDAR