BEGIN:VCALENDAR
VERSION:2.0
PRODID:-//The Magic of Christmas - ECPv6.15.12.2//NONSGML v1.0//EN
CALSCALE:GREGORIAN
METHOD:PUBLISH
X-ORIGINAL-URL:https://www.themagicofchristmas.org
X-WR-CALDESC:Events for The Magic of Christmas
REFRESH-INTERVAL;VALUE=DURATION:PT1H
X-Robots-Tag:noindex
X-PUBLISHED-TTL:PT1H
BEGIN:VTIMEZONE
TZID:America/Denver
BEGIN:DAYLIGHT
TZOFFSETFROM:-0700
TZOFFSETTO:-0600
TZNAME:MDT
DTSTART:20240310T090000
END:DAYLIGHT
BEGIN:STANDARD
TZOFFSETFROM:-0600
TZOFFSETTO:-0700
TZNAME:MST
DTSTART:20241103T080000
END:STANDARD
BEGIN:DAYLIGHT
TZOFFSETFROM:-0700
TZOFFSETTO:-0600
TZNAME:MDT
DTSTART:20250309T090000
END:DAYLIGHT
BEGIN:STANDARD
TZOFFSETFROM:-0600
TZOFFSETTO:-0700
TZNAME:MST
DTSTART:20251102T080000
END:STANDARD
BEGIN:DAYLIGHT
TZOFFSETFROM:-0700
TZOFFSETTO:-0600
TZNAME:MDT
DTSTART:20260308T090000
END:DAYLIGHT
BEGIN:STANDARD
TZOFFSETFROM:-0600
TZOFFSETTO:-0700
TZNAME:MST
DTSTART:20261101T080000
END:STANDARD
END:VTIMEZONE
BEGIN:VEVENT
DTSTART;VALUE=DATE:20251001
DTEND;VALUE=DATE:20251002
DTSTAMP:20260423T190211
CREATED:20250925T194812Z
LAST-MODIFIED:20250925T194812Z
UID:4567-1759276800-1759363199@www.themagicofchristmas.org
SUMMARY:2025 Referrals Open
DESCRIPTION:Referral Organizations wishing to refer a family\, can submit a request for families to get a visit from Santa \nDetails about the Referrals Program
URL:https://www.themagicofchristmas.org/event/2025-referrals-open/
CATEGORIES:Referrals
END:VEVENT
BEGIN:VEVENT
DTSTART;VALUE=DATE:20251015
DTEND;VALUE=DATE:20251016
DTSTAMP:20260423T190211
CREATED:20250925T172613Z
LAST-MODIFIED:20250925T194453Z
UID:4555-1760486400-1760572799@www.themagicofchristmas.org
SUMMARY:Volunteer Registration Opens- 2025
DESCRIPTION:Volunteer Registration opens October 15\nVisit the registration page here.
URL:https://www.themagicofchristmas.org/event/volunteer-registration-opens-2025/
CATEGORIES:Volunteers
END:VEVENT
END:VCALENDAR