BEGIN:VCALENDAR
VERSION:2.0
PRODID:-//The Magic of Christmas - ECPv6.15.12.2//NONSGML v1.0//EN
CALSCALE:GREGORIAN
METHOD:PUBLISH
X-WR-CALNAME:The Magic of Christmas
X-ORIGINAL-URL:https://www.themagicofchristmas.org
X-WR-CALDESC:Events for The Magic of Christmas
REFRESH-INTERVAL;VALUE=DURATION:PT1H
X-Robots-Tag:noindex
X-PUBLISHED-TTL:PT1H
BEGIN:VTIMEZONE
TZID:America/Denver
BEGIN:DAYLIGHT
TZOFFSETFROM:-0700
TZOFFSETTO:-0600
TZNAME:MDT
DTSTART:20240310T090000
END:DAYLIGHT
BEGIN:STANDARD
TZOFFSETFROM:-0600
TZOFFSETTO:-0700
TZNAME:MST
DTSTART:20241103T080000
END:STANDARD
BEGIN:DAYLIGHT
TZOFFSETFROM:-0700
TZOFFSETTO:-0600
TZNAME:MDT
DTSTART:20250309T090000
END:DAYLIGHT
BEGIN:STANDARD
TZOFFSETFROM:-0600
TZOFFSETTO:-0700
TZNAME:MST
DTSTART:20251102T080000
END:STANDARD
BEGIN:DAYLIGHT
TZOFFSETFROM:-0700
TZOFFSETTO:-0600
TZNAME:MDT
DTSTART:20260308T090000
END:DAYLIGHT
BEGIN:STANDARD
TZOFFSETFROM:-0600
TZOFFSETTO:-0700
TZNAME:MST
DTSTART:20261101T080000
END:STANDARD
END:VTIMEZONE
BEGIN:VEVENT
DTSTART;TZID=America/Denver:20251119T190000
DTEND;TZID=America/Denver:20251119T210000
DTSTAMP:20260423T220833
CREATED:20251112T210440Z
LAST-MODIFIED:20251112T210440Z
UID:4612-1763578800-1763586000@www.themagicofchristmas.org
SUMMARY:Costume Try-on - SANTA PARTIES ONLY
DESCRIPTION:This try-on is for Santa and elves who are scheduled for SANTA PARTIES ONLY (Since we have some parties starting Nov 22nd!) \nImportant: You must receive an email notification from us letting you know that you’ve been scheduled for a Santa Party shift before attending this event. \nClick here to learn more about our volunteer opportunities. \nCostume fitting Dates\n\nView all the costume fitting dates we currently have available.
URL:https://www.themagicofchristmas.org/event/costume-try-on-santa-parties-only/
LOCATION:Magic of Christmas Warehouse\, Bay #32\, 4216 54 Ave SE\, Calgary\, Alberta\, T2C 2E3\, Canada
CATEGORIES:Elf Costume Tryon,Santa Costume Tryon,Santa Parties
ATTACH;FMTTYPE=image/jpeg:https://themagicofchristmas.org/wp-content/uploads/2018/11/Santa-Elf.jpg
END:VEVENT
BEGIN:VEVENT
DTSTART;TZID=America/Denver:20251122T130000
DTEND;TZID=America/Denver:20251122T150000
DTSTAMP:20260423T220833
CREATED:20251115T195213Z
LAST-MODIFIED:20251115T195213Z
UID:4616-1763816400-1763823600@www.themagicofchristmas.org
SUMMARY:Costume Try-on – SANTA PARTIES ONLY
DESCRIPTION:This try-on is for Santa and elves who are scheduled for SANTA PARTIES ONLY (Since we have some parties starting Nov 22nd!) \nImportant: You must receive an email notification from us letting you know that you’ve been scheduled for a Santa Party shift before attending this event. \nClick here to learn more about our volunteer opportunities. \nCostume fitting Dates\n\nView all the costume fitting dates we currently have available.
URL:https://www.themagicofchristmas.org/event/costume-try-on-santa-parties-only-2/
LOCATION:Magic of Christmas Warehouse\, Bay #32\, 4216 54 Ave SE\, Calgary\, Alberta\, T2C 2E3\, Canada
CATEGORIES:Costumes,Elf Costume Tryon,Santa Costume Tryon
ATTACH;FMTTYPE=image/jpeg:https://themagicofchristmas.org/wp-content/uploads/2018/11/Santa-Elf.jpg
END:VEVENT
BEGIN:VEVENT
DTSTART;TZID=America/Denver:20251130T130000
DTEND;TZID=America/Denver:20251130T160000
DTSTAMP:20260423T220833
CREATED:20251117T062445Z
LAST-MODIFIED:20251117T062445Z
UID:4636-1764507600-1764518400@www.themagicofchristmas.org
SUMMARY:Costume Try On - #1 - Elves
DESCRIPTION: ELVES ONLY\nIf you’ve received a confirmation for a bus\, hospital or Santa party shift\, you can come to figure out your costume! \nDid you join our growing family of elves and Santas this year? The following costume fittings are for registered and confirmed bus and hospital route volunteers only. Costume fittings take place at our workshop.\nImportant: You must receive an email notification from us letting you know that you’ve been scheduled for a bus or hospital shift before attending one of the following. \nClick here to learn more about our volunteer opportunities. \nCostume fitting Dates\n\nView all the costume fitting dates we currently have available.
URL:https://www.themagicofchristmas.org/event/costume-try-on-1-elves/
LOCATION:Magic of Christmas Warehouse\, Bay #32\, 4216 54 Ave SE\, Calgary\, Alberta\, T2C 2E3\, Canada
CATEGORIES:Costumes,Elf Costume Tryon
ATTACH;FMTTYPE=image/png:https://themagicofchristmas.org/wp-content/uploads/2018/11/Elf.png
END:VEVENT
END:VCALENDAR