BEGIN:VCALENDAR
VERSION:2.0
PRODID:-//The Magic of Christmas - ECPv6.15.12.2//NONSGML v1.0//EN
CALSCALE:GREGORIAN
METHOD:PUBLISH
X-WR-CALNAME:The Magic of Christmas
X-ORIGINAL-URL:https://www.themagicofchristmas.org
X-WR-CALDESC:Events for The Magic of Christmas
REFRESH-INTERVAL;VALUE=DURATION:PT1H
X-Robots-Tag:noindex
X-PUBLISHED-TTL:PT1H
BEGIN:VTIMEZONE
TZID:America/Denver
BEGIN:DAYLIGHT
TZOFFSETFROM:-0700
TZOFFSETTO:-0600
TZNAME:MDT
DTSTART:20230312T090000
END:DAYLIGHT
BEGIN:STANDARD
TZOFFSETFROM:-0600
TZOFFSETTO:-0700
TZNAME:MST
DTSTART:20231105T080000
END:STANDARD
BEGIN:DAYLIGHT
TZOFFSETFROM:-0700
TZOFFSETTO:-0600
TZNAME:MDT
DTSTART:20240310T090000
END:DAYLIGHT
BEGIN:STANDARD
TZOFFSETFROM:-0600
TZOFFSETTO:-0700
TZNAME:MST
DTSTART:20241103T080000
END:STANDARD
BEGIN:DAYLIGHT
TZOFFSETFROM:-0700
TZOFFSETTO:-0600
TZNAME:MDT
DTSTART:20250309T090000
END:DAYLIGHT
BEGIN:STANDARD
TZOFFSETFROM:-0600
TZOFFSETTO:-0700
TZNAME:MST
DTSTART:20251102T080000
END:STANDARD
END:VTIMEZONE
BEGIN:VEVENT
DTSTART;TZID=America/Denver:20240928T160000
DTEND;TZID=America/Denver:20240928T220000
DTSTAMP:20260424T212556
CREATED:20240808T030147Z
LAST-MODIFIED:20240926T041112Z
UID:4215-1727539200-1727560800@www.themagicofchristmas.org
SUMMARY:The Magic of Christmas Charity Gala 2024
DESCRIPTION:The Magic of Christmas is hosting our inaugural charity gala on September 28\, 2024\, a special evening dedicated to spreading the spirit of Christmas to those who need it most in our community. \nOur goal this year is to raise $25\,000 to continue our mission\, and your presence at our gala would mean the world to us. At The Magic of Christmas 2024 Charity Gala\, you’ll step into a transformed venue\, brimming with festive spirit and excitement. Enjoy finest food by BFK\, drinks\, silent auction\, and live entertainment\, all in support of a wonderful cause. It’s an evening that will leave a lasting impression\, long after the music fades and the lights dim. \nParking Information\n \n \nThe Magic of Christmas Charity Gala 2024 Sponsors\nWe are immensely grateful to our generous sponsors whose support makes this extraordinary event possible. These valued partners share our commitment to delivering the Christmas spirit into the homes and hearts of those who need it most and inviting everyone to believe again in the true magic of the season. We encourage you to take a moment to explore the logos below and recognize the organizations that play a pivotal role in bringing our mission to life. \nSilver Sponsors\n  \nBronze Sponsors\n  \n \nInterested in becoming a sponsor for this event? Step into our VIP lounge to learn more.
URL:https://www.themagicofchristmas.org/event/the-magic-of-christmas-charity-gala-2024/
LOCATION:ATCO Blue Flame Kitchen\, 5302 Forand St SW\, Calgary\, Alberta\, T3E 8B4\, Canada
CATEGORIES:Fundraising,Gala
ORGANIZER;CN="Volunteer Coordinator":MAILTO:volunteer@themagicofchristmas.org
END:VEVENT
END:VCALENDAR