BEGIN:VCALENDAR
VERSION:2.0
PRODID:-//The Magic of Christmas - ECPv6.15.12.2//NONSGML v1.0//EN
CALSCALE:GREGORIAN
METHOD:PUBLISH
X-WR-CALNAME:The Magic of Christmas
X-ORIGINAL-URL:https://www.themagicofchristmas.org
X-WR-CALDESC:Events for The Magic of Christmas
REFRESH-INTERVAL;VALUE=DURATION:PT1H
X-Robots-Tag:noindex
X-PUBLISHED-TTL:PT1H
BEGIN:VTIMEZONE
TZID:America/Denver
BEGIN:DAYLIGHT
TZOFFSETFROM:-0700
TZOFFSETTO:-0600
TZNAME:MDT
DTSTART:20230312T090000
END:DAYLIGHT
BEGIN:STANDARD
TZOFFSETFROM:-0600
TZOFFSETTO:-0700
TZNAME:MST
DTSTART:20231105T080000
END:STANDARD
BEGIN:DAYLIGHT
TZOFFSETFROM:-0700
TZOFFSETTO:-0600
TZNAME:MDT
DTSTART:20240310T090000
END:DAYLIGHT
BEGIN:STANDARD
TZOFFSETFROM:-0600
TZOFFSETTO:-0700
TZNAME:MST
DTSTART:20241103T080000
END:STANDARD
BEGIN:DAYLIGHT
TZOFFSETFROM:-0700
TZOFFSETTO:-0600
TZNAME:MDT
DTSTART:20250309T090000
END:DAYLIGHT
BEGIN:STANDARD
TZOFFSETFROM:-0600
TZOFFSETTO:-0700
TZNAME:MST
DTSTART:20251102T080000
END:STANDARD
END:VTIMEZONE
BEGIN:VEVENT
DTSTART;TZID=America/Denver:20240419T160000
DTEND;TZID=America/Denver:20240420T150000
DTSTAMP:20260425T053339
CREATED:20240320T025800Z
LAST-MODIFIED:20240320T032617Z
UID:4170-1713542400-1713625200@www.themagicofchristmas.org
SUMMARY:Rotary Second Chance Art Sale
DESCRIPTION:Out partner\, Rotary Club of Calgary Heritage Park hosts the “Second Chance Art Sale” every year as a fundraiser.
URL:https://www.themagicofchristmas.org/event/rotary-second-chance-art-sale/
LOCATION:Acadia Recreation Complex\, 240 - 90 Avenue SE\, Calgary\, Alberta\, Canada
ATTACH;FMTTYPE=image/png:https://themagicofchristmas.org/wp-content/uploads/2024/03/SCAS-2024-Square.png
END:VEVENT
END:VCALENDAR